

BEGIN:VCALENDAR
VERSION:2.0
PRODID:-//World UltraCycling Association - ECPv6.15.20//NONSGML v1.0//EN
CALSCALE:GREGORIAN
METHOD:PUBLISH
X-ORIGINAL-URL:https://ultracycling.com
X-WR-CALDESC:Events for World UltraCycling Association
REFRESH-INTERVAL;VALUE=DURATION:PT1H
X-Robots-Tag:noindex
X-PUBLISHED-TTL:PT1H
BEGIN:VTIMEZONE
TZID:America/New_York
BEGIN:DAYLIGHT
TZOFFSETFROM:-0500
TZOFFSETTO:-0400
TZNAME:EDT
DTSTART:20160313T070000
END:DAYLIGHT
BEGIN:STANDARD
TZOFFSETFROM:-0400
TZOFFSETTO:-0500
TZNAME:EST
DTSTART:20161106T060000
END:STANDARD
BEGIN:DAYLIGHT
TZOFFSETFROM:-0500
TZOFFSETTO:-0400
TZNAME:EDT
DTSTART:20170312T070000
END:DAYLIGHT
BEGIN:STANDARD
TZOFFSETFROM:-0400
TZOFFSETTO:-0500
TZNAME:EST
DTSTART:20171105T060000
END:STANDARD
BEGIN:DAYLIGHT
TZOFFSETFROM:-0500
TZOFFSETTO:-0400
TZNAME:EDT
DTSTART:20180311T070000
END:DAYLIGHT
BEGIN:STANDARD
TZOFFSETFROM:-0400
TZOFFSETTO:-0500
TZNAME:EST
DTSTART:20181104T060000
END:STANDARD
BEGIN:DAYLIGHT
TZOFFSETFROM:-0500
TZOFFSETTO:-0400
TZNAME:EDT
DTSTART:20190310T070000
END:DAYLIGHT
BEGIN:STANDARD
TZOFFSETFROM:-0400
TZOFFSETTO:-0500
TZNAME:EST
DTSTART:20191103T060000
END:STANDARD
END:VTIMEZONE
BEGIN:VTIMEZONE
TZID:America/Chicago
BEGIN:DAYLIGHT
TZOFFSETFROM:-0600
TZOFFSETTO:-0500
TZNAME:CDT
DTSTART:20170312T080000
END:DAYLIGHT
BEGIN:STANDARD
TZOFFSETFROM:-0500
TZOFFSETTO:-0600
TZNAME:CST
DTSTART:20171105T070000
END:STANDARD
BEGIN:DAYLIGHT
TZOFFSETFROM:-0600
TZOFFSETTO:-0500
TZNAME:CDT
DTSTART:20180311T080000
END:DAYLIGHT
BEGIN:STANDARD
TZOFFSETFROM:-0500
TZOFFSETTO:-0600
TZNAME:CST
DTSTART:20181104T070000
END:STANDARD
BEGIN:DAYLIGHT
TZOFFSETFROM:-0600
TZOFFSETTO:-0500
TZNAME:CDT
DTSTART:20190310T080000
END:DAYLIGHT
BEGIN:STANDARD
TZOFFSETFROM:-0500
TZOFFSETTO:-0600
TZNAME:CST
DTSTART:20191103T070000
END:STANDARD
END:VTIMEZONE
BEGIN:VTIMEZONE
TZID:America/Denver
BEGIN:DAYLIGHT
TZOFFSETFROM:-0700
TZOFFSETTO:-0600
TZNAME:MDT
DTSTART:20160313T090000
END:DAYLIGHT
BEGIN:STANDARD
TZOFFSETFROM:-0600
TZOFFSETTO:-0700
TZNAME:MST
DTSTART:20161106T080000
END:STANDARD
BEGIN:DAYLIGHT
TZOFFSETFROM:-0700
TZOFFSETTO:-0600
TZNAME:MDT
DTSTART:20170312T090000
END:DAYLIGHT
BEGIN:STANDARD
TZOFFSETFROM:-0600
TZOFFSETTO:-0700
TZNAME:MST
DTSTART:20171105T080000
END:STANDARD
BEGIN:DAYLIGHT
TZOFFSETFROM:-0700
TZOFFSETTO:-0600
TZNAME:MDT
DTSTART:20180311T090000
END:DAYLIGHT
BEGIN:STANDARD
TZOFFSETFROM:-0600
TZOFFSETTO:-0700
TZNAME:MST
DTSTART:20181104T080000
END:STANDARD
BEGIN:DAYLIGHT
TZOFFSETFROM:-0700
TZOFFSETTO:-0600
TZNAME:MDT
DTSTART:20190310T090000
END:DAYLIGHT
BEGIN:STANDARD
TZOFFSETFROM:-0600
TZOFFSETTO:-0700
TZNAME:MST
DTSTART:20191103T080000
END:STANDARD
END:VTIMEZONE
BEGIN:VTIMEZONE
TZID:America/Los_Angeles
BEGIN:DAYLIGHT
TZOFFSETFROM:-0800
TZOFFSETTO:-0700
TZNAME:PDT
DTSTART:20160313T100000
END:DAYLIGHT
BEGIN:STANDARD
TZOFFSETFROM:-0700
TZOFFSETTO:-0800
TZNAME:PST
DTSTART:20161106T090000
END:STANDARD
BEGIN:DAYLIGHT
TZOFFSETFROM:-0800
TZOFFSETTO:-0700
TZNAME:PDT
DTSTART:20170312T100000
END:DAYLIGHT
BEGIN:STANDARD
TZOFFSETFROM:-0700
TZOFFSETTO:-0800
TZNAME:PST
DTSTART:20171105T090000
END:STANDARD
BEGIN:DAYLIGHT
TZOFFSETFROM:-0800
TZOFFSETTO:-0700
TZNAME:PDT
DTSTART:20180311T100000
END:DAYLIGHT
BEGIN:STANDARD
TZOFFSETFROM:-0700
TZOFFSETTO:-0800
TZNAME:PST
DTSTART:20181104T090000
END:STANDARD
END:VTIMEZONE
BEGIN:VTIMEZONE
TZID:UTC
BEGIN:STANDARD
TZOFFSETFROM:+0000
TZOFFSETTO:+0000
TZNAME:UTC
DTSTART:20160101T000000
END:STANDARD
END:VTIMEZONE
BEGIN:VTIMEZONE
TZID:Europe/Helsinki
BEGIN:DAYLIGHT
TZOFFSETFROM:+0200
TZOFFSETTO:+0300
TZNAME:EEST
DTSTART:20160327T010000
END:DAYLIGHT
BEGIN:STANDARD
TZOFFSETFROM:+0300
TZOFFSETTO:+0200
TZNAME:EET
DTSTART:20161030T010000
END:STANDARD
BEGIN:DAYLIGHT
TZOFFSETFROM:+0200
TZOFFSETTO:+0300
TZNAME:EEST
DTSTART:20170326T010000
END:DAYLIGHT
BEGIN:STANDARD
TZOFFSETFROM:+0300
TZOFFSETTO:+0200
TZNAME:EET
DTSTART:20171029T010000
END:STANDARD
BEGIN:DAYLIGHT
TZOFFSETFROM:+0200
TZOFFSETTO:+0300
TZNAME:EEST
DTSTART:20180325T010000
END:DAYLIGHT
BEGIN:STANDARD
TZOFFSETFROM:+0300
TZOFFSETTO:+0200
TZNAME:EET
DTSTART:20181028T010000
END:STANDARD
END:VTIMEZONE
BEGIN:VTIMEZONE
TZID:Europe/Paris
BEGIN:DAYLIGHT
TZOFFSETFROM:+0100
TZOFFSETTO:+0200
TZNAME:CEST
DTSTART:20160327T010000
END:DAYLIGHT
BEGIN:STANDARD
TZOFFSETFROM:+0200
TZOFFSETTO:+0100
TZNAME:CET
DTSTART:20161030T010000
END:STANDARD
BEGIN:DAYLIGHT
TZOFFSETFROM:+0100
TZOFFSETTO:+0200
TZNAME:CEST
DTSTART:20170326T010000
END:DAYLIGHT
BEGIN:STANDARD
TZOFFSETFROM:+0200
TZOFFSETTO:+0100
TZNAME:CET
DTSTART:20171029T010000
END:STANDARD
BEGIN:DAYLIGHT
TZOFFSETFROM:+0100
TZOFFSETTO:+0200
TZNAME:CEST
DTSTART:20180325T010000
END:DAYLIGHT
BEGIN:STANDARD
TZOFFSETFROM:+0200
TZOFFSETTO:+0100
TZNAME:CET
DTSTART:20181028T010000
END:STANDARD
END:VTIMEZONE
BEGIN:VEVENT
DTSTART;VALUE=DATE:20180210
DTEND;VALUE=DATE:20180212
DTSTAMP:20260421T075918
CREATED:20171201T032253Z
LAST-MODIFIED:20171201T032253Z
UID:3762-1518220800-1518393599@ultracycling.com
SUMMARY:Bike Sebring 24hr non-drafting 2018
DESCRIPTION:This course begins with 3 laps (3.7 miles each) on the famous Sebring race course. Riders then transition to flat\, sometimes rolling roads with a minimum amount of traffic which comprise the long loop (89 miles). This is followed by an 11-mile short loop that riders will stay on until evening. As darkness sets in\, racers will continue on the racetrack course throughout the night. The racetrack course will be illuminated for easy identification of the route.
URL:https://ultracycling.com/calendar/bike-sebring-24hr-non-drafting-2018/
LOCATION:Sebring International Raceway\, 113 Midway Dr\, Sebring\, FL\, 33870\, United States
CATEGORIES:24 Hour,RAAM Qualifier,Timed
ATTACH;FMTTYPE=image/jpeg:https://ultracycling.com/wp-content/uploads/2016/11/Sebring-24.jpg
ORGANIZER;CN="Rotary Club Of Highlands County":MAILTO:BikeSebring1224@gmail.com
END:VEVENT
BEGIN:VEVENT
DTSTART;VALUE=DATE:20180210
DTEND;VALUE=DATE:20180211
DTSTAMP:20260421T075918
CREATED:20171201T032042Z
LAST-MODIFIED:20171201T032042Z
UID:3760-1518220800-1518307199@ultracycling.com
SUMMARY:Bike Sebring 12hr 2018
DESCRIPTION:Course begins with 3 laps (3.7 miles each) on the famous Sebring race course. Riders then transition to flat\, sometimes rolling roads with a minimum amount of traffic which comprise the long loop (89 miles). This is followed by an 11-mile short loop untill the riders are returned to the race track between 5:30 – 5:45 pm
URL:https://ultracycling.com/calendar/bike-sebring-12hr-2018/
LOCATION:Sebring International Raceway\, 113 Midway Dr\, Sebring\, FL\, 33870\, United States
CATEGORIES:12 Hour,Timed
ATTACH;FMTTYPE=image/png:https://ultracycling.com/wp-content/uploads/2016/11/Sebring-12-e1479748651504.png
ORGANIZER;CN="Rotary Club Of Highlands County":MAILTO:BikeSebring1224@gmail.com
END:VEVENT
BEGIN:VEVENT
DTSTART;VALUE=DATE:20180202
DTEND;VALUE=DATE:20180203
DTSTAMP:20260421T075918
CREATED:20171215T230717Z
LAST-MODIFIED:20171215T230717Z
UID:3855-1517529600-1517615999@ultracycling.com
SUMMARY:Pace Bend 18H TT 2018
DESCRIPTION:6.2-mile road loop inside Pace Bend State Park. Cyclists may ride as many laps as desired during respective duration.
URL:https://ultracycling.com/calendar/driveway-series-24h-tt-2018-2-3/
LOCATION:Pace Bend State Park\, 2011 Pace Bend Rd N\, Spicewood\, TX\, 78669\, United States
CATEGORIES:Timed
ATTACH;FMTTYPE=image/jpeg:https://ultracycling.com/wp-content/uploads/2017/01/Driveway-Series.jpg
ORGANIZER;CN="Holland Racing":MAILTO:andrew.willis@hollandracing.net kelley.ables@hollandracing.net
END:VEVENT
BEGIN:VEVENT
DTSTART;VALUE=DATE:20180202
DTEND;VALUE=DATE:20180203
DTSTAMP:20260421T075918
CREATED:20170322T011507Z
LAST-MODIFIED:20170322T011507Z
UID:2908-1517529600-1517615999@ultracycling.com
SUMMARY:Pace Bend 6H TT 2018
DESCRIPTION:6.2-mile road loop inside Pace Bend State Park. Cyclists may ride as many laps as desired during respective duration.
URL:https://ultracycling.com/calendar/driveway-series-24h-tt-2018-2-2/
LOCATION:Pace Bend State Park\, 2011 Pace Bend Rd N\, Spicewood\, TX\, 78669\, United States
CATEGORIES:6 Hour,Timed
ATTACH;FMTTYPE=image/png:https://ultracycling.com/wp-content/uploads/2017/03/pb24.png
ORGANIZER;CN="Holland Racing":MAILTO:andrew.willis@hollandracing.net kelley.ables@hollandracing.net
END:VEVENT
BEGIN:VEVENT
DTSTART;VALUE=DATE:20180202
DTEND;VALUE=DATE:20180203
DTSTAMP:20260421T075918
CREATED:20170322T011422Z
LAST-MODIFIED:20170322T011422Z
UID:2906-1517529600-1517615999@ultracycling.com
SUMMARY:Pace Bend 12H TT 2018
DESCRIPTION:6.2-mile road loop inside Pace Bend State Park. Cyclists may ride as many laps as desired during respective duration.
URL:https://ultracycling.com/calendar/driveway-series-24h-tt-2018-2/
LOCATION:Pace Bend State Park\, 2011 Pace Bend Rd N\, Spicewood\, TX\, 78669\, United States
CATEGORIES:12 Hour,Timed
ATTACH;FMTTYPE=image/jpeg:https://ultracycling.com/wp-content/uploads/2017/01/Driveway-Series.jpg
ORGANIZER;CN="Holland Racing":MAILTO:andrew.willis@hollandracing.net kelley.ables@hollandracing.net
END:VEVENT
BEGIN:VEVENT
DTSTART;VALUE=DATE:20180202
DTEND;VALUE=DATE:20180203
DTSTAMP:20260421T075918
CREATED:20170322T011305Z
LAST-MODIFIED:20170322T011305Z
UID:2894-1517529600-1517615999@ultracycling.com
SUMMARY:Pace Bend 24H TT 2018
DESCRIPTION:6.2-mile road loop inside Pace Bend State Park. Cyclists may ride as many laps as desired during respective duration.
URL:https://ultracycling.com/calendar/driveway-series-24h-tt-2018/
LOCATION:Pace Bend State Park\, 2011 Pace Bend Rd N\, Spicewood\, TX\, 78669\, United States
CATEGORIES:24 Hour,RAAM Qualifier,Timed
ATTACH;FMTTYPE=image/png:https://ultracycling.com/wp-content/uploads/2017/03/pb24.png
ORGANIZER;CN="Holland Racing":MAILTO:andrew.willis@hollandracing.net kelley.ables@hollandracing.net
END:VEVENT
BEGIN:VEVENT
DTSTART;VALUE=DATE:20180114
DTEND;VALUE=DATE:20180115
DTSTAMP:20260421T075918
CREATED:20170420T002753Z
LAST-MODIFIED:20170420T002753Z
UID:3018-1515888000-1515974399@ultracycling.com
SUMMARY:Australia Revolve 12hr 2018
DESCRIPTION:
URL:https://ultracycling.com/calendar/au-revolve-12hr-2018/
LOCATION:Australia Adelaide The Bend\, The Bend Motorsport Park\, Corner Dukes And Mallee Highways\, Tailem Bend\, SA\, 5259\, Australia
CATEGORIES:12 Hour,Timed
ATTACH;FMTTYPE=image/jpeg:https://ultracycling.com/wp-content/uploads/2016/11/Revolve-24-e1479748679245.jpg
ORGANIZER;CN="Revolve 24":MAILTO:r24team@revolve24.com
END:VEVENT
BEGIN:VEVENT
DTSTART;VALUE=DATE:20180113
DTEND;VALUE=DATE:20180115
DTSTAMP:20260421T075918
CREATED:20170420T002800Z
LAST-MODIFIED:20170420T002800Z
UID:3017-1515801600-1515974399@ultracycling.com
SUMMARY:Australia Revolve 24hr 2018
DESCRIPTION:
URL:https://ultracycling.com/calendar/au-revolve-24hr-2018/
LOCATION:Australia Adelaide The Bend\, The Bend Motorsport Park\, Corner Dukes And Mallee Highways\, Tailem Bend\, SA\, 5259\, Australia
CATEGORIES:24 Hour,Timed
ATTACH;FMTTYPE=image/jpeg:https://ultracycling.com/wp-content/uploads/2016/11/Revolve-24-e1479748679245.jpg
ORGANIZER;CN="Revolve 24":MAILTO:r24team@revolve24.com
END:VEVENT
BEGIN:VEVENT
DTSTART;VALUE=DATE:20180113
DTEND;VALUE=DATE:20180114
DTSTAMP:20260421T075918
CREATED:20170420T002755Z
LAST-MODIFIED:20170420T002755Z
UID:3019-1515801600-1515887999@ultracycling.com
SUMMARY:Australia Revolve 6hr 2018
DESCRIPTION:
URL:https://ultracycling.com/calendar/au-revolve-6hr-2018/
LOCATION:Australia Adelaide The Bend\, The Bend Motorsport Park\, Corner Dukes And Mallee Highways\, Tailem Bend\, SA\, 5259\, Australia
CATEGORIES:6 Hour,Timed
ATTACH;FMTTYPE=image/jpeg:https://ultracycling.com/wp-content/uploads/2016/11/Revolve-24-e1479748679245.jpg
ORGANIZER;CN="Revolve 24":MAILTO:r24team@revolve24.com
END:VEVENT
BEGIN:VEVENT
DTSTART;VALUE=DATE:20171104
DTEND;VALUE=DATE:20171106
DTSTAMP:20260421T075918
CREATED:20161027T181352Z
LAST-MODIFIED:20161027T181352Z
UID:367-1509753600-1509926399@ultracycling.com
SUMMARY:24 Hour World TT Championship 2017
DESCRIPTION:The course is flat and fast\, featuring a main loop of 18.0 miles with 347’ of elevation change and a finishing loop of 4.8 miles with 63’ of elevation change.
URL:https://ultracycling.com/calendar/24-hour-world-tt-championship-2017/
LOCATION:Borrego Springs\, Christmas Circle\, Borrego Springs\, CA\, United States
CATEGORIES:24 Hour,Championship,Timed
ATTACH;FMTTYPE=image/png:https://ultracycling.com/wp-content/uploads/2016/10/6-12-24hour_logo-e1479748778496.png
END:VEVENT
BEGIN:VEVENT
DTSTART;VALUE=DATE:20171104
DTEND;VALUE=DATE:20171105
DTSTAMP:20260421T075918
CREATED:20161027T181150Z
LAST-MODIFIED:20161027T181150Z
UID:365-1509753600-1509839999@ultracycling.com
SUMMARY:12 hour World TT Championship 2017
DESCRIPTION:The course is flat and fast\, featuring a main loop of 18.0 miles with 347’ of elevation change and a finishing loop of 4.8 miles with 63’ of elevation change.
URL:https://ultracycling.com/calendar/12-hour-world-tt-championship-2017/
LOCATION:Borrego Springs\, Christmas Circle\, Borrego Springs\, CA\, United States
CATEGORIES:12 Hour,Championship,Timed
ATTACH;FMTTYPE=image/png:https://ultracycling.com/wp-content/uploads/2016/10/6-12-24hour_logo-e1479748778496.png
END:VEVENT
BEGIN:VEVENT
DTSTART;VALUE=DATE:20171104
DTEND;VALUE=DATE:20171105
DTSTAMP:20260421T075918
CREATED:20161027T180754Z
LAST-MODIFIED:20161027T180754Z
UID:361-1509753600-1509839999@ultracycling.com
SUMMARY:6 hour World TT Championship 2017
DESCRIPTION:The course is flat and fast\, featuring a main loop of 18.0 miles with 347’ of elevation change and a finishing loop of 4.8 miles with 63’ of elevation change.
URL:https://ultracycling.com/calendar/6-hour-world-tt-championship-2017/
LOCATION:Borrego Springs\, Christmas Circle\, Borrego Springs\, CA\, United States
CATEGORIES:6 Hour,Championship,Timed
ATTACH;FMTTYPE=image/png:https://ultracycling.com/wp-content/uploads/2016/10/6-12-24hour_logo-e1479748778496.png
END:VEVENT
BEGIN:VEVENT
DTSTART;VALUE=DATE:20170923
DTEND;VALUE=DATE:20170924
DTSTAMP:20260421T075918
CREATED:20170110T005941Z
LAST-MODIFIED:20170110T005941Z
UID:1516-1506124800-1506211199@ultracycling.com
SUMMARY:Texas Shoot Out 6H TT 2017
DESCRIPTION:The course is a scenic and challenging 26.5 mile loop\, with all riders completing 53 miles in 6 hours hours receiving a trophy.
URL:https://ultracycling.com/calendar/texas-24-2017-2/
LOCATION:Glen Rose City Park (Rodeo Park)\, 1600 Northeast Big Bend Trail\, 1600 Northeast Big Bend Trail\, TX\, 76033\, United States
CATEGORIES:6 Hour,Timed
ATTACH;FMTTYPE=image/jpeg:https://ultracycling.com/wp-content/uploads/2017/01/TT-logo.jpg
ORGANIZER;CN="Holland Racing":MAILTO:andrew.willis@hollandracing.net kelley.ables@hollandracing.net
END:VEVENT
BEGIN:VEVENT
DTSTART;VALUE=DATE:20170923
DTEND;VALUE=DATE:20170924
DTSTAMP:20260421T075918
CREATED:20170110T005821Z
LAST-MODIFIED:20170110T005821Z
UID:1514-1506124800-1506211199@ultracycling.com
SUMMARY:Texas Tin Butt 12H TT 2017
DESCRIPTION:The course is a scenic and challenging 26.5 mile loop\, with all riders completing 79.5 miles in 12 hours receiving a trophy.
URL:https://ultracycling.com/calendar/texas-12-2017/
LOCATION:Glen Rose City Park (Rodeo Park)\, 1600 Northeast Big Bend Trail\, 1600 Northeast Big Bend Trail\, TX\, 76033\, United States
CATEGORIES:12 Hour,Championship,Timed
ATTACH;FMTTYPE=image/jpeg:https://ultracycling.com/wp-content/uploads/2017/01/TT-logo.jpg
ORGANIZER;CN="Holland Racing":MAILTO:andrew.willis@hollandracing.net kelley.ables@hollandracing.net
END:VEVENT
BEGIN:VEVENT
DTSTART;VALUE=DATE:20170923
DTEND;VALUE=DATE:20170924
DTSTAMP:20260421T075918
CREATED:20161121T032425Z
LAST-MODIFIED:20161121T032425Z
UID:713-1506124800-1506211199@ultracycling.com
SUMMARY:Isle of Man CC 12 hour 2017
DESCRIPTION:The race starts and finishes in the pit lane of the iconic Isle of Man TT Grandstand and laps comprise 37.7 miles of the world famous motorcycling TT course through ever-changing scenery from rural pasture to sweeping views across the Irish Sea
URL:https://ultracycling.com/calendar/isle-of-man-cc-12-hour-2017/
LOCATION:Isle of Man\, TT Grandstand\, Douglas\, Isle of Man\, IM2 6DA\, United Kingdom
CATEGORIES:12 Hour,Timed
ATTACH;FMTTYPE=image/jpeg:https://ultracycling.com/wp-content/uploads/2016/11/Isle-of-Man-CC-e1479748708399.jpg
ORGANIZER;CN="Greenrock":MAILTO:info@greenrock.co.uk
END:VEVENT
BEGIN:VEVENT
DTSTART;VALUE=DATE:20170922
DTEND;VALUE=DATE:20170924
DTSTAMP:20260421T075918
CREATED:20170110T005646Z
LAST-MODIFIED:20170110T005646Z
UID:1512-1506038400-1506211199@ultracycling.com
SUMMARY:Texas Iron Butt 24H TT 2017
DESCRIPTION:The course is a scenic and challenging 26.5 mile loop\, with all riders completing 132.5 miles in 24 hours receiving a trophy. The 24H TT is a RAAM Qualifier.
URL:https://ultracycling.com/calendar/texas-24-2017/
LOCATION:Glen Rose City Park (Rodeo Park)\, 1600 Northeast Big Bend Trail\, 1600 Northeast Big Bend Trail\, TX\, 76033\, United States
CATEGORIES:24 Hour,RAAM Qualifier,Timed
ATTACH;FMTTYPE=image/jpeg:https://ultracycling.com/wp-content/uploads/2017/01/TT-logo.jpg
ORGANIZER;CN="Holland Racing":MAILTO:andrew.willis@hollandracing.net kelley.ables@hollandracing.net
END:VEVENT
BEGIN:VEVENT
DTSTART;VALUE=DATE:20170917
DTEND;VALUE=DATE:20170918
DTSTAMP:20260421T075918
CREATED:20161121T032423Z
LAST-MODIFIED:20161121T032423Z
UID:703-1505606400-1505692799@ultracycling.com
SUMMARY:Brands Hatch Revolve 6 2017
DESCRIPTION:A 6 hour super speedy time-trial around the Brand’s Hatch motor racing circuit
URL:https://ultracycling.com/calendar/brands-hatch-revolve-6-2017/
LOCATION:Brand’s Hatch\, West Kingsdown\, Longfield\, DA3 8PU\, United States
CATEGORIES:6 Hour,Championship,Timed
ATTACH;FMTTYPE=image/jpeg:https://ultracycling.com/wp-content/uploads/2016/11/Revolve-6-e1479748699458.jpg
ORGANIZER;CN="Revolve 24":MAILTO:r24team@revolve24.com
END:VEVENT
BEGIN:VEVENT
DTSTART;VALUE=DATE:20170916
DTEND;VALUE=DATE:20170918
DTSTAMP:20260421T075918
CREATED:20161121T032424Z
LAST-MODIFIED:20161121T032424Z
UID:704-1505520000-1505692799@ultracycling.com
SUMMARY:Brands Hatch Revolve 12 2017
DESCRIPTION:12 hours of racing around the legendary Brand’s Hatch motor racing circuit
URL:https://ultracycling.com/calendar/brands-hatch-revolve-12-2017/
LOCATION:Brand’s Hatch\, West Kingsdown\, Longfield\, DA3 8PU\, United States
CATEGORIES:12 Hour,Timed
ATTACH;FMTTYPE=image/jpeg:https://ultracycling.com/wp-content/uploads/2016/11/Revolve-12-e1479748688967.jpg
ORGANIZER;CN="Revolve 24":MAILTO:r24team@revolve24.com
END:VEVENT
BEGIN:VEVENT
DTSTART;VALUE=DATE:20170916
DTEND;VALUE=DATE:20170918
DTSTAMP:20260421T075918
CREATED:20161121T032424Z
LAST-MODIFIED:20161121T032424Z
UID:705-1505520000-1505692799@ultracycling.com
SUMMARY:Brands Hatch Revolve 24 2017
DESCRIPTION:The 24 hour format\, racing around motor racing circuit Brand’s Hatch\, is a qualifier for RAAM
URL:https://ultracycling.com/calendar/brands-hatch-revolve-24-2017/
LOCATION:Brand’s Hatch\, West Kingsdown\, Longfield\, DA3 8PU\, United States
CATEGORIES:24 Hour,RAAM Qualifier,Timed
ATTACH;FMTTYPE=image/jpeg:https://ultracycling.com/wp-content/uploads/2016/11/Revolve-24-e1479748679245.jpg
ORGANIZER;CN="Revolve 24":MAILTO:r24team@revolve24.com
END:VEVENT
BEGIN:VEVENT
DTSTART;VALUE=DATE:20170906
DTEND;VALUE=DATE:20170908
DTSTAMP:20260421T075918
CREATED:20161121T032423Z
LAST-MODIFIED:20161121T032423Z
UID:702-1504656000-1504828799@ultracycling.com
SUMMARY:IL24TE - Israeli 24 Hour 2017
DESCRIPTION:A main loop of 27.6km on quiet\, flat\, roads south of Tel Aviv
URL:https://ultracycling.com/calendar/il24te-israeli-24-hour-2017/
LOCATION:IL24TE Start\, Urim Junction\, Israel
CATEGORIES:24 Hour,RAAM Qualifier,Timed
ATTACH;FMTTYPE=image/jpeg:https://ultracycling.com/wp-content/uploads/2016/11/Israel.jpg
ORGANIZER;CN="IL24TE":MAILTO:israel24te@gmail.com
END:VEVENT
BEGIN:VEVENT
DTSTART;VALUE=DATE:20170906
DTEND;VALUE=DATE:20170907
DTSTAMP:20260421T075918
CREATED:20161121T032423Z
LAST-MODIFIED:20161121T032423Z
UID:700-1504656000-1504742399@ultracycling.com
SUMMARY:IL24TE - Israeli 6 Hour 2017
DESCRIPTION:A main loop of 27.6km on quiet\, flat\, roads south of Tel Aviv
URL:https://ultracycling.com/calendar/il24te-israeli-6-hour-2017/
LOCATION:IL24TE Start\, Urim Junction\, Israel
CATEGORIES:6 Hour,Timed
ATTACH;FMTTYPE=image/jpeg:https://ultracycling.com/wp-content/uploads/2016/11/Israel.jpg
ORGANIZER;CN="IL24TE":MAILTO:israel24te@gmail.com
END:VEVENT
BEGIN:VEVENT
DTSTART;VALUE=DATE:20170906
DTEND;VALUE=DATE:20170907
DTSTAMP:20260421T075918
CREATED:20161121T032423Z
LAST-MODIFIED:20161121T032423Z
UID:701-1504656000-1504742399@ultracycling.com
SUMMARY:IL24TE - Israeli 12 Hour 2017
DESCRIPTION:A main loop of 27.6km on quiet\, flat\, roads south of Tel Aviv
URL:https://ultracycling.com/calendar/il24te-israeli-12-hour-2017/
LOCATION:IL24TE Start\, Urim Junction\, Israel
CATEGORIES:12 Hour,Timed
ATTACH;FMTTYPE=image/jpeg:https://ultracycling.com/wp-content/uploads/2016/11/Israel.jpg
ORGANIZER;CN="IL24TE":MAILTO:israel24te@gmail.com
END:VEVENT
BEGIN:VEVENT
DTSTART;VALUE=DATE:20170826
DTEND;VALUE=DATE:20170828
DTSTAMP:20260421T075918
CREATED:20161121T032421Z
LAST-MODIFIED:20161121T032421Z
UID:692-1503705600-1503878399@ultracycling.com
SUMMARY:Le Mans Shimano 24 2017
DESCRIPTION:Racing on a technical track with great corners and its famous Dunlop uphill. With more than 4000 riders from around twenty different countries. Real time tracking and free maintenance and wheel loan 24 hours a day from Shimano
URL:https://ultracycling.com/calendar/le-mans-shimano-24-2017/
LOCATION:Le Mans Circuit\, Circuit de la Sarthe\, Le Mans\, 72019\, France
CATEGORIES:24 Hour,Timed
ATTACH;FMTTYPE=image/png:https://ultracycling.com/wp-content/uploads/2016/11/Le-Mans-e1479748538241.png
ORGANIZER;CN="24 Heures Velo":MAILTO:course@24heuresvelo.fr
END:VEVENT
BEGIN:VEVENT
DTSTART;VALUE=DATE:20170819
DTEND;VALUE=DATE:20170820
DTSTAMP:20260421T075918
CREATED:20161121T192953Z
LAST-MODIFIED:20161121T192953Z
UID:763-1503100800-1503187199@ultracycling.com
SUMMARY:Mid-Atlantic 24 2017
DESCRIPTION:The 26 mile loop will take you around rural areas of Beaufort County. Located in the coastal region on North Carolina\, his is a very flat course! It’s the perfect venue for riders that are Self Supported
URL:https://ultracycling.com/calendar/mid-atlantic-24-2017-2/
LOCATION:Washington High School\, 400 Slatestone Road\, Washington\, NC\, 27889\, United States
CATEGORIES:24 Hour,RAAM Qualifier,Timed
ATTACH;FMTTYPE=image/jpeg:https://ultracycling.com/wp-content/uploads/2016/11/Mid-Atlantic.jpg
ORGANIZER;CN="Mid-Atlantic Ultra Sports":MAILTO:maxwell@midatlanticultrasports.com
END:VEVENT
BEGIN:VEVENT
DTSTART;VALUE=DATE:20170819
DTEND;VALUE=DATE:20170820
DTSTAMP:20260421T075918
CREATED:20161121T192953Z
LAST-MODIFIED:20161121T192953Z
UID:762-1503100800-1503187199@ultracycling.com
SUMMARY:Mid-Atlantic 12 2017
DESCRIPTION: 
URL:https://ultracycling.com/calendar/mid-atlantic-12-2017-2/
LOCATION:Washington High School\, 400 Slatestone Road\, Washington\, NC\, 27889\, United States
CATEGORIES:12 Hour,Timed
ORGANIZER;CN="Mid-Atlantic Ultra Sports":MAILTO:maxwell@midatlanticultrasports.com
END:VEVENT
BEGIN:VEVENT
DTSTART;VALUE=DATE:20170813
DTEND;VALUE=DATE:20170814
DTSTAMP:20260421T075918
CREATED:20170112T203337Z
LAST-MODIFIED:20170112T203337Z
UID:1612-1502582400-1502668799@ultracycling.com
SUMMARY:RTTC National 12H Championship 2017
DESCRIPTION:
URL:https://ultracycling.com/calendar/rttc-national-12h-championship-2017/
LOCATION:Farndon\, Farndon\, United Kingdom
CATEGORIES:12 Hour,Championship,Timed
ATTACH;FMTTYPE=image/jpeg:https://ultracycling.com/wp-content/uploads/2017/01/ECCA.jpg
END:VEVENT
BEGIN:VEVENT
DTSTART;VALUE=DATE:20170730
DTEND;VALUE=DATE:20170731
DTSTAMP:20260421T075918
CREATED:20170112T202632Z
LAST-MODIFIED:20170112T202632Z
UID:1607-1501372800-1501459199@ultracycling.com
SUMMARY:CC Breckland 12hr TT 2017
DESCRIPTION:
URL:https://ultracycling.com/calendar/cc-breckland-12hr-tt-2017/
LOCATION:CC Breckland TT Start\, Hingham\, United Kingdom
CATEGORIES:12 Hour,Timed
ATTACH;FMTTYPE=image/jpeg:https://ultracycling.com/wp-content/uploads/2017/01/Breckland-12H.jpg
END:VEVENT
BEGIN:VEVENT
DTSTART;VALUE=DATE:20170730
DTEND;VALUE=DATE:20170731
DTSTAMP:20260421T075918
CREATED:20170112T200516Z
LAST-MODIFIED:20170112T200516Z
UID:1599-1501372800-1501459199@ultracycling.com
SUMMARY:Team Swift 12-hour TT 2017
DESCRIPTION:12H TT held around Yorkshire villages
URL:https://ultracycling.com/calendar/team-swift-12-hour-tt-2017/
LOCATION:Team Swift TT Start\, Melbourne\, Pocklington\, United Kingdom
CATEGORIES:12 Hour,Timed
ATTACH;FMTTYPE=image/jpeg:https://ultracycling.com/wp-content/uploads/2017/01/Team-Swift.jpg
END:VEVENT
BEGIN:VEVENT
DTSTART;VALUE=DATE:20170722
DTEND;VALUE=DATE:20170724
DTSTAMP:20260421T075918
CREATED:20161121T032419Z
LAST-MODIFIED:20161121T032419Z
UID:683-1500681600-1500854399@ultracycling.com
SUMMARY:Mersey Roads 24 2017
DESCRIPTION:Set beside a trucker’s café on an A-road in the Merseyside region of the UK\, exists one of the country’s oldest and most gruelling bike races. The Mersey Roads 24 Hour time trial sees over 100 competitors cycle superhuman distances of up to 537 miles (859km) over a 24-hour period.
URL:https://ultracycling.com/calendar/mersey-roads-24-2017/
LOCATION:Mersey 24H TT Start\, Farndon\, Merseyside\, United Kingdom
CATEGORIES:24 Hour,Championship,RAAM Qualifier,Timed
ATTACH;FMTTYPE=image/jpeg:https://ultracycling.com/wp-content/uploads/2016/11/Mersey-24-300.jpg
ORGANIZER;CN="Mersey Roads Club":MAILTO:oggy_merseyroads@hotmail.com
END:VEVENT
BEGIN:VEVENT
DTSTART;VALUE=DATE:20170715
DTEND;VALUE=DATE:20170717
DTSTAMP:20260421T075918
CREATED:20161121T032419Z
LAST-MODIFIED:20161121T032419Z
UID:680-1500076800-1500249599@ultracycling.com
SUMMARY:Slo24 Ultra 2017
DESCRIPTION:The race starts in town of Dobrovnik on North-East of Slovenia\, by the border with Hungary. The race route is a flat 11km loop through two municipalities\, Dobrovnik and Turnisce
URL:https://ultracycling.com/calendar/slo24-ultra-2017/
LOCATION:Slo24 Venue\, Dobrovnik\, Slovenia
CATEGORIES:24 Hour,Championship,Timed
ATTACH;FMTTYPE=image/png:https://ultracycling.com/wp-content/uploads/2016/11/Logo-Slo-24-Ultra-e1481209440204.png
ORGANIZER;CN="Marko Baloh":MAILTO:marko@markobaloh.com
END:VEVENT
END:VCALENDAR