

BEGIN:VCALENDAR
VERSION:2.0
PRODID:-//World UltraCycling Association - ECPv6.15.20//NONSGML v1.0//EN
CALSCALE:GREGORIAN
METHOD:PUBLISH
X-ORIGINAL-URL:https://ultracycling.com
X-WR-CALDESC:Events for World UltraCycling Association
REFRESH-INTERVAL;VALUE=DURATION:PT1H
X-Robots-Tag:noindex
X-PUBLISHED-TTL:PT1H
BEGIN:VTIMEZONE
TZID:America/Denver
BEGIN:DAYLIGHT
TZOFFSETFROM:-0700
TZOFFSETTO:-0600
TZNAME:MDT
DTSTART:20180311T090000
END:DAYLIGHT
BEGIN:STANDARD
TZOFFSETFROM:-0600
TZOFFSETTO:-0700
TZNAME:MST
DTSTART:20181104T080000
END:STANDARD
BEGIN:DAYLIGHT
TZOFFSETFROM:-0700
TZOFFSETTO:-0600
TZNAME:MDT
DTSTART:20190310T090000
END:DAYLIGHT
BEGIN:STANDARD
TZOFFSETFROM:-0600
TZOFFSETTO:-0700
TZNAME:MST
DTSTART:20191103T080000
END:STANDARD
BEGIN:DAYLIGHT
TZOFFSETFROM:-0700
TZOFFSETTO:-0600
TZNAME:MDT
DTSTART:20200308T090000
END:DAYLIGHT
BEGIN:STANDARD
TZOFFSETFROM:-0600
TZOFFSETTO:-0700
TZNAME:MST
DTSTART:20201101T080000
END:STANDARD
BEGIN:DAYLIGHT
TZOFFSETFROM:-0700
TZOFFSETTO:-0600
TZNAME:MDT
DTSTART:20210314T090000
END:DAYLIGHT
BEGIN:STANDARD
TZOFFSETFROM:-0600
TZOFFSETTO:-0700
TZNAME:MST
DTSTART:20211107T080000
END:STANDARD
END:VTIMEZONE
BEGIN:VTIMEZONE
TZID:America/New_York
BEGIN:DAYLIGHT
TZOFFSETFROM:-0500
TZOFFSETTO:-0400
TZNAME:EDT
DTSTART:20180311T070000
END:DAYLIGHT
BEGIN:STANDARD
TZOFFSETFROM:-0400
TZOFFSETTO:-0500
TZNAME:EST
DTSTART:20181104T060000
END:STANDARD
BEGIN:DAYLIGHT
TZOFFSETFROM:-0500
TZOFFSETTO:-0400
TZNAME:EDT
DTSTART:20190310T070000
END:DAYLIGHT
BEGIN:STANDARD
TZOFFSETFROM:-0400
TZOFFSETTO:-0500
TZNAME:EST
DTSTART:20191103T060000
END:STANDARD
BEGIN:DAYLIGHT
TZOFFSETFROM:-0500
TZOFFSETTO:-0400
TZNAME:EDT
DTSTART:20200308T070000
END:DAYLIGHT
BEGIN:STANDARD
TZOFFSETFROM:-0400
TZOFFSETTO:-0500
TZNAME:EST
DTSTART:20201101T060000
END:STANDARD
BEGIN:DAYLIGHT
TZOFFSETFROM:-0500
TZOFFSETTO:-0400
TZNAME:EDT
DTSTART:20210314T070000
END:DAYLIGHT
BEGIN:STANDARD
TZOFFSETFROM:-0400
TZOFFSETTO:-0500
TZNAME:EST
DTSTART:20211107T060000
END:STANDARD
END:VTIMEZONE
BEGIN:VTIMEZONE
TZID:America/Chicago
BEGIN:DAYLIGHT
TZOFFSETFROM:-0600
TZOFFSETTO:-0500
TZNAME:CDT
DTSTART:20180311T080000
END:DAYLIGHT
BEGIN:STANDARD
TZOFFSETFROM:-0500
TZOFFSETTO:-0600
TZNAME:CST
DTSTART:20181104T070000
END:STANDARD
BEGIN:DAYLIGHT
TZOFFSETFROM:-0600
TZOFFSETTO:-0500
TZNAME:CDT
DTSTART:20190310T080000
END:DAYLIGHT
BEGIN:STANDARD
TZOFFSETFROM:-0500
TZOFFSETTO:-0600
TZNAME:CST
DTSTART:20191103T070000
END:STANDARD
BEGIN:DAYLIGHT
TZOFFSETFROM:-0600
TZOFFSETTO:-0500
TZNAME:CDT
DTSTART:20200308T080000
END:DAYLIGHT
BEGIN:STANDARD
TZOFFSETFROM:-0500
TZOFFSETTO:-0600
TZNAME:CST
DTSTART:20201101T070000
END:STANDARD
BEGIN:DAYLIGHT
TZOFFSETFROM:-0600
TZOFFSETTO:-0500
TZNAME:CDT
DTSTART:20210314T080000
END:DAYLIGHT
BEGIN:STANDARD
TZOFFSETFROM:-0500
TZOFFSETTO:-0600
TZNAME:CST
DTSTART:20211107T070000
END:STANDARD
END:VTIMEZONE
BEGIN:VTIMEZONE
TZID:America/Los_Angeles
BEGIN:DAYLIGHT
TZOFFSETFROM:-0800
TZOFFSETTO:-0700
TZNAME:PDT
DTSTART:20180311T100000
END:DAYLIGHT
BEGIN:STANDARD
TZOFFSETFROM:-0700
TZOFFSETTO:-0800
TZNAME:PST
DTSTART:20181104T090000
END:STANDARD
BEGIN:DAYLIGHT
TZOFFSETFROM:-0800
TZOFFSETTO:-0700
TZNAME:PDT
DTSTART:20190310T100000
END:DAYLIGHT
BEGIN:STANDARD
TZOFFSETFROM:-0700
TZOFFSETTO:-0800
TZNAME:PST
DTSTART:20191103T090000
END:STANDARD
BEGIN:DAYLIGHT
TZOFFSETFROM:-0800
TZOFFSETTO:-0700
TZNAME:PDT
DTSTART:20200308T100000
END:DAYLIGHT
BEGIN:STANDARD
TZOFFSETFROM:-0700
TZOFFSETTO:-0800
TZNAME:PST
DTSTART:20201101T090000
END:STANDARD
END:VTIMEZONE
BEGIN:VTIMEZONE
TZID:America/Los_Angeles
BEGIN:DAYLIGHT
TZOFFSETFROM:-0800
TZOFFSETTO:-0700
TZNAME:PDT
DTSTART:20180311T100000
END:DAYLIGHT
BEGIN:STANDARD
TZOFFSETFROM:-0700
TZOFFSETTO:-0800
TZNAME:PST
DTSTART:20181104T090000
END:STANDARD
BEGIN:DAYLIGHT
TZOFFSETFROM:-0800
TZOFFSETTO:-0700
TZNAME:PDT
DTSTART:20190310T100000
END:DAYLIGHT
BEGIN:STANDARD
TZOFFSETFROM:-0700
TZOFFSETTO:-0800
TZNAME:PST
DTSTART:20191103T090000
END:STANDARD
BEGIN:DAYLIGHT
TZOFFSETFROM:-0800
TZOFFSETTO:-0700
TZNAME:PDT
DTSTART:20200308T100000
END:DAYLIGHT
BEGIN:STANDARD
TZOFFSETFROM:-0700
TZOFFSETTO:-0800
TZNAME:PST
DTSTART:20201101T090000
END:STANDARD
END:VTIMEZONE
BEGIN:VTIMEZONE
TZID:Europe/Helsinki
BEGIN:DAYLIGHT
TZOFFSETFROM:+0200
TZOFFSETTO:+0300
TZNAME:EEST
DTSTART:20180325T010000
END:DAYLIGHT
BEGIN:STANDARD
TZOFFSETFROM:+0300
TZOFFSETTO:+0200
TZNAME:EET
DTSTART:20181028T010000
END:STANDARD
BEGIN:DAYLIGHT
TZOFFSETFROM:+0200
TZOFFSETTO:+0300
TZNAME:EEST
DTSTART:20190331T010000
END:DAYLIGHT
BEGIN:STANDARD
TZOFFSETFROM:+0300
TZOFFSETTO:+0200
TZNAME:EET
DTSTART:20191027T010000
END:STANDARD
BEGIN:DAYLIGHT
TZOFFSETFROM:+0200
TZOFFSETTO:+0300
TZNAME:EEST
DTSTART:20200329T010000
END:DAYLIGHT
BEGIN:STANDARD
TZOFFSETFROM:+0300
TZOFFSETTO:+0200
TZNAME:EET
DTSTART:20201025T010000
END:STANDARD
END:VTIMEZONE
BEGIN:VTIMEZONE
TZID:UTC
BEGIN:STANDARD
TZOFFSETFROM:+0000
TZOFFSETTO:+0000
TZNAME:UTC
DTSTART:20180101T000000
END:STANDARD
END:VTIMEZONE
BEGIN:VTIMEZONE
TZID:Europe/Paris
BEGIN:DAYLIGHT
TZOFFSETFROM:+0100
TZOFFSETTO:+0200
TZNAME:CEST
DTSTART:20180325T010000
END:DAYLIGHT
BEGIN:STANDARD
TZOFFSETFROM:+0200
TZOFFSETTO:+0100
TZNAME:CET
DTSTART:20181028T010000
END:STANDARD
BEGIN:DAYLIGHT
TZOFFSETFROM:+0100
TZOFFSETTO:+0200
TZNAME:CEST
DTSTART:20190331T010000
END:DAYLIGHT
BEGIN:STANDARD
TZOFFSETFROM:+0200
TZOFFSETTO:+0100
TZNAME:CET
DTSTART:20191027T010000
END:STANDARD
BEGIN:DAYLIGHT
TZOFFSETFROM:+0100
TZOFFSETTO:+0200
TZNAME:CEST
DTSTART:20200329T010000
END:DAYLIGHT
BEGIN:STANDARD
TZOFFSETFROM:+0200
TZOFFSETTO:+0100
TZNAME:CET
DTSTART:20201025T010000
END:STANDARD
END:VTIMEZONE
BEGIN:VEVENT
DTSTART;VALUE=DATE:20200509
DTEND;VALUE=DATE:20200510
DTSTAMP:20260420T190446
CREATED:20190922T174907Z
LAST-MODIFIED:20200117T132755Z
UID:21115-1588982400-1589068799@ultracycling.com
SUMMARY:Texas Ultra Spirit 12hr TT 2020
DESCRIPTION:Lap-style race on a 7.5-mile course starting and finishing in picturesque Fayetteville\, TX.
URL:https://ultracycling.com/calendar/texas-ultra-spirit-12hr-tt-2020/
LOCATION:Fayetteville TX Town Square\, 110 W Main St\, Fayetteville\, TX\, 78940\, United States
CATEGORIES:12 Hour,Timed
ATTACH;FMTTYPE=image/png:https://ultracycling.com/wp-content/uploads/2017/01/Texas-Ultra-Spirit.png
ORGANIZER;CN="Texas Ultra Spirit":MAILTO:sanchdl@yahoo.com
END:VEVENT
BEGIN:VEVENT
DTSTART;VALUE=DATE:20200208
DTEND;VALUE=DATE:20200210
DTSTAMP:20260420T190446
CREATED:20190916T231626Z
LAST-MODIFIED:20200117T132430Z
UID:21066-1581120000-1581292799@ultracycling.com
SUMMARY:Bike Sebring 24hr non-drafting 2020
DESCRIPTION:This course begins with 3 laps (3.7 miles each) on the famous Sebring race course. Riders then transition to flat\, sometimes rolling roads with a minimum amount of traffic which comprise the long loop (89 miles). This is followed by an 11-mile short loop that riders will stay on until evening. As darkness sets in\, racers will continue on the racetrack course throughout the night. The racetrack course will be illuminated for easy identification of the route.
URL:https://ultracycling.com/calendar/bike-sebring-24hr-non-drafting-2020/
LOCATION:Sebring International Raceway\, 113 Midway Dr\, Sebring\, FL\, 33870\, United States
CATEGORIES:24 Hour,RAAM Qualifier,Timed
ATTACH;FMTTYPE=image/jpeg:https://ultracycling.com/wp-content/uploads/2016/11/Sebring-24.jpg
ORGANIZER;CN="Rotary Club Of Highlands County":MAILTO:BikeSebring1224@gmail.com
END:VEVENT
BEGIN:VEVENT
DTSTART;VALUE=DATE:20200208
DTEND;VALUE=DATE:20200210
DTSTAMP:20260420T190446
CREATED:20190916T231255Z
LAST-MODIFIED:20200117T132556Z
UID:21062-1581120000-1581292799@ultracycling.com
SUMMARY:Bike Sebring 24hr drafting 2020
DESCRIPTION:This course begins with 3 laps (3.7 miles each) on the famous Sebring race course. Riders then transition to flat\, sometimes rolling roads with a minimum amount of traffic which comprise the long loop (89 miles). This is followed by an 11-mile shortloop that riders will stay on until evening. As darkness sets in\, racers will continue on the racetrack course throughout the night. The racetrack course will be illuminated for easy identification of the route.
URL:https://ultracycling.com/calendar/bike-sebring-24hr-drafting-2020/
LOCATION:Sebring International Raceway\, 113 Midway Dr\, Sebring\, FL\, 33870\, United States
CATEGORIES:24 Hour,Timed
ATTACH;FMTTYPE=image/png:https://ultracycling.com/wp-content/uploads/2016/11/Sebring-24-dr-e1479748666458.png
ORGANIZER;CN="Rotary Club Of Highlands County":MAILTO:BikeSebring1224@gmail.com
END:VEVENT
BEGIN:VEVENT
DTSTART;VALUE=DATE:20200208
DTEND;VALUE=DATE:20200209
DTSTAMP:20260420T190446
CREATED:20190916T231801Z
LAST-MODIFIED:20200117T132350Z
UID:21068-1581120000-1581206399@ultracycling.com
SUMMARY:Bike Sebring 12hr 2020
DESCRIPTION:Course begins with 3 laps (3.7 miles each) on the famous Sebring race course. Riders then transition to flat\, sometimes rolling roads with a minimum amount of traffic which comprise the long loop (89 miles). This is followed by an 11-mile short loop untill the riders are returned to the race track between 5:30 – 5:45 pm
URL:https://ultracycling.com/calendar/bike-sebring-12hr-2020/
LOCATION:Sebring International Raceway\, 113 Midway Dr\, Sebring\, FL\, 33870\, United States
CATEGORIES:12 Hour,Timed
ATTACH;FMTTYPE=image/png:https://ultracycling.com/wp-content/uploads/2016/11/Sebring-12-e1479748651504.png
ORGANIZER;CN="Rotary Club Of Highlands County":MAILTO:BikeSebring1224@gmail.com
END:VEVENT
BEGIN:VEVENT
DTSTART;VALUE=DATE:20200201
DTEND;VALUE=DATE:20200203
DTSTAMP:20260420T190446
CREATED:20190918T130836Z
LAST-MODIFIED:20200117T130420Z
UID:21090-1580515200-1580687999@ultracycling.com
SUMMARY:Pace Bend 24H TT 2020
DESCRIPTION:6.2-mile road loop inside Pace Bend State Park. Cyclists may ride as many laps as desired during respective duration.
URL:https://ultracycling.com/calendar/pace-bend-24h-tt-2020/
LOCATION:Pace Bend State Park\, 2011 Pace Bend Rd N\, Spicewood\, TX\, 78669\, United States
CATEGORIES:24 Hour,RAAM Qualifier,Timed
ATTACH;FMTTYPE=image/png:https://ultracycling.com/wp-content/uploads/2017/03/pb24.png
ORGANIZER;CN="Holland Racing":MAILTO:andrew.willis@hollandracing.net kelley.ables@hollandracing.net
END:VEVENT
BEGIN:VEVENT
DTSTART;VALUE=DATE:20200201
DTEND;VALUE=DATE:20200202
DTSTAMP:20260420T190446
CREATED:20190918T130719Z
LAST-MODIFIED:20200117T131429Z
UID:21088-1580515200-1580601599@ultracycling.com
SUMMARY:Pace Bend 12H TT 2020
DESCRIPTION:6.2-mile road loop inside Pace Bend State Park. Cyclists may ride as many laps as desired during respective duration.
URL:https://ultracycling.com/calendar/pace-bend-12h-tt-2020/
LOCATION:Pace Bend State Park\, 2011 Pace Bend Rd N\, Spicewood\, TX\, 78669\, United States
CATEGORIES:12 Hour,Timed
ATTACH;FMTTYPE=image/jpeg:https://ultracycling.com/wp-content/uploads/2017/01/Driveway-Series.jpg
ORGANIZER;CN="Holland Racing":MAILTO:andrew.willis@hollandracing.net kelley.ables@hollandracing.net
END:VEVENT
BEGIN:VEVENT
DTSTART;VALUE=DATE:20200201
DTEND;VALUE=DATE:20200202
DTSTAMP:20260420T190446
CREATED:20190918T130514Z
LAST-MODIFIED:20200117T132014Z
UID:21086-1580515200-1580601599@ultracycling.com
SUMMARY:Pace Bend 6H TT 2020
DESCRIPTION:6.2-mile road loop inside Pace Bend State Park. Cyclists may ride as many laps as desired during respective duration.
URL:https://ultracycling.com/calendar/pace-bend-6h-tt-2020/
LOCATION:Pace Bend State Park\, 2011 Pace Bend Rd N\, Spicewood\, TX\, 78669\, United States
CATEGORIES:6 Hour,Timed
ATTACH;FMTTYPE=image/png:https://ultracycling.com/wp-content/uploads/2017/03/pb24.png
ORGANIZER;CN="Holland Racing":MAILTO:andrew.willis@hollandracing.net kelley.ables@hollandracing.net
END:VEVENT
BEGIN:VEVENT
DTSTART;VALUE=DATE:20191101
DTEND;VALUE=DATE:20191103
DTSTAMP:20260420T190446
CREATED:20191118T231537Z
LAST-MODIFIED:20191118T231537Z
UID:21260-1572566400-1572739199@ultracycling.com
SUMMARY:Borrego Springs 6-hour TT\,  2019
DESCRIPTION:The course is flat and fast\, featuring a main loop of 18.0 miles with 347’ of elevation change and a finishing loop of 4.8 miles with 63’ of elevation change.
URL:https://ultracycling.com/calendar/borrego_springs_6-hour_tt_2019/
LOCATION:Borrego Springs\, Christmas Circle\, Borrego Springs\, CA\, United States
CATEGORIES:6 Hour,Timed
END:VEVENT
BEGIN:VEVENT
DTSTART;VALUE=DATE:20191101
DTEND;VALUE=DATE:20191103
DTSTAMP:20260420T190446
CREATED:20190408T173823Z
LAST-MODIFIED:20190408T173823Z
UID:20883-1572566400-1572739199@ultracycling.com
SUMMARY:24 Hour World TT Championship 2019
DESCRIPTION:The course is flat and fast\, featuring a main loop of 18.0 miles with 347’ of elevation change and a finishing loop of 4.8 miles with 63’ of elevation change.
URL:https://ultracycling.com/calendar/24-hour-world-tt-championship-2019/
LOCATION:Borrego Springs\, Christmas Circle\, Borrego Springs\, CA\, United States
CATEGORIES:24 Hour,Timed
ATTACH;FMTTYPE=image/png:https://ultracycling.com/wp-content/uploads/2016/10/6-12-24hour_logo-e1479748778496.png
END:VEVENT
BEGIN:VEVENT
DTSTART;VALUE=DATE:20191101
DTEND;VALUE=DATE:20191102
DTSTAMP:20260420T190446
CREATED:20190408T173643Z
LAST-MODIFIED:20190408T181632Z
UID:20881-1572566400-1572652799@ultracycling.com
SUMMARY:12 hour World TT Championship 2019
DESCRIPTION:The course is flat and fast\, featuring a main loop of 18.0 miles with 347’ of elevation change and a finishing loop of 4.8 miles with 63’ of elevation change.
URL:https://ultracycling.com/calendar/12-hour-world-tt-championship-2019/
LOCATION:Borrego Springs\, Christmas Circle\, Borrego Springs\, CA\, United States
CATEGORIES:12 Hour,Timed
ATTACH;FMTTYPE=image/png:https://ultracycling.com/wp-content/uploads/2016/10/6-12-24hour_logo-e1479748778496.png
END:VEVENT
BEGIN:VEVENT
DTSTART;VALUE=DATE:20191005
DTEND;VALUE=DATE:20191006
DTSTAMP:20260420T190446
CREATED:20190408T173358Z
LAST-MODIFIED:20200128T152007Z
UID:20879-1570233600-1570319999@ultracycling.com
SUMMARY:Bessie’s Creek 6-hr 2019
DESCRIPTION:
URL:https://ultracycling.com/calendar/bessies-creek-6-hr/
LOCATION:TX
CATEGORIES:6 Hour,Timed
END:VEVENT
BEGIN:VEVENT
DTSTART;VALUE=DATE:20191005
DTEND;VALUE=DATE:20191006
DTSTAMP:20260420T190446
CREATED:20190408T172640Z
LAST-MODIFIED:20200128T151846Z
UID:20876-1570233600-1570319999@ultracycling.com
SUMMARY:Bessie’s Creek 24-hr 2019
DESCRIPTION:
URL:https://ultracycling.com/calendar/bessies-creek-24-hr-2019/
LOCATION:TX
CATEGORIES:24 Hour,Timed
END:VEVENT
BEGIN:VEVENT
DTSTART;VALUE=DATE:20191005
DTEND;VALUE=DATE:20191006
DTSTAMP:20260420T190446
CREATED:20190103T165424Z
LAST-MODIFIED:20200128T151800Z
UID:20792-1570233600-1570319999@ultracycling.com
SUMMARY:Bessie’s Creek 12-hr 2019
DESCRIPTION:
URL:https://ultracycling.com/calendar/bessies-creek-12-hr/
LOCATION:TX
CATEGORIES:12 Hour,Timed
END:VEVENT
BEGIN:VEVENT
DTSTART;VALUE=DATE:20190926
DTEND;VALUE=DATE:20190927
DTSTAMP:20260420T190446
CREATED:20180925T005723Z
LAST-MODIFIED:20200128T151324Z
UID:4433-1569456000-1569542399@ultracycling.com
SUMMARY:IL24TE – Israeli 6 Hour 2019
DESCRIPTION:A main loop of 27.6km on quiet\, flat\, roads south of Tel Aviv
URL:https://ultracycling.com/calendar/il24te-israeli-6-hour-2019/
LOCATION:IL24TE Start\, Urim Junction\, Israel
CATEGORIES:6 Hour,Timed
ATTACH;FMTTYPE=image/jpeg:https://ultracycling.com/wp-content/uploads/2016/11/Israel.jpg
ORGANIZER;CN="IL24TE":MAILTO:israel24te@gmail.com
END:VEVENT
BEGIN:VEVENT
DTSTART;VALUE=DATE:20190926
DTEND;VALUE=DATE:20190927
DTSTAMP:20260420T190446
CREATED:20180925T005651Z
LAST-MODIFIED:20200128T151014Z
UID:4432-1569456000-1569542399@ultracycling.com
SUMMARY:IL24TE – Israeli 12 Hour 2019
DESCRIPTION:A main loop of 27.6km on quiet\, flat\, roads south of Tel Aviv
URL:https://ultracycling.com/calendar/il24te-israeli-12-hour-2019/
LOCATION:IL24TE Start\, Urim Junction\, Israel
CATEGORIES:12 Hour,Timed
ATTACH;FMTTYPE=image/jpeg:https://ultracycling.com/wp-content/uploads/2016/11/Israel.jpg
ORGANIZER;CN="IL24TE":MAILTO:israel24te@gmail.com
END:VEVENT
BEGIN:VEVENT
DTSTART;VALUE=DATE:20190925
DTEND;VALUE=DATE:20190927
DTSTAMP:20260420T190446
CREATED:20180925T005756Z
LAST-MODIFIED:20200128T151207Z
UID:4434-1569369600-1569542399@ultracycling.com
SUMMARY:IL24TE – Israeli 24 Hour 2019
DESCRIPTION:A main loop of 27.6km on quiet\, flat\, roads south of Tel Aviv
URL:https://ultracycling.com/calendar/il24te-israeli-24-hour-2019/
LOCATION:IL24TE Start\, Urim Junction\, Israel
CATEGORIES:24 Hour,RAAM Qualifier,Timed
ATTACH;FMTTYPE=image/jpeg:https://ultracycling.com/wp-content/uploads/2016/11/Israel.jpg
ORGANIZER;CN="IL24TE":MAILTO:israel24te@gmail.com
END:VEVENT
BEGIN:VEVENT
DTSTART;VALUE=DATE:20190921
DTEND;VALUE=DATE:20190922
DTSTAMP:20260420T190446
CREATED:20180821T000931Z
LAST-MODIFIED:20190226T132843Z
UID:4366-1569024000-1569110399@ultracycling.com
SUMMARY:Texas Time Trials 6H TT 2019
DESCRIPTION:The course is a scenic and challenging 26.5 mile loop\, with all riders completing 53 miles in 6 hours hours receiving a trophy.
URL:https://ultracycling.com/calendar/texas-6h-2019/
LOCATION:Glen Rose City Park (Rodeo Park)\, 1600 Northeast Big Bend Trail\, 1600 Northeast Big Bend Trail\, TX\, 76033\, United States
CATEGORIES:6 Hour,Timed
ATTACH;FMTTYPE=image/jpeg:https://ultracycling.com/wp-content/uploads/2017/01/TT-logo.jpg
ORGANIZER;CN="Holland Racing":MAILTO:andrew.willis@hollandracing.net kelley.ables@hollandracing.net
END:VEVENT
BEGIN:VEVENT
DTSTART;VALUE=DATE:20190921
DTEND;VALUE=DATE:20190922
DTSTAMP:20260420T190446
CREATED:20180821T000848Z
LAST-MODIFIED:20190226T132908Z
UID:4367-1569024000-1569110399@ultracycling.com
SUMMARY:Texas Time Trials 12H TT 2019
DESCRIPTION:The course is a scenic and challenging 26.5 mile loop\, with all riders completing 79.5 miles in 12 hours receiving a trophy.
URL:https://ultracycling.com/calendar/texas-12-2019/
LOCATION:Glen Rose City Park (Rodeo Park)\, 1600 Northeast Big Bend Trail\, 1600 Northeast Big Bend Trail\, TX\, 76033\, United States
CATEGORIES:12 Hour,Timed
ATTACH;FMTTYPE=image/jpeg:https://ultracycling.com/wp-content/uploads/2017/01/TT-logo.jpg
ORGANIZER;CN="Holland Racing":MAILTO:andrew.willis@hollandracing.net kelley.ables@hollandracing.net
END:VEVENT
BEGIN:VEVENT
DTSTART;VALUE=DATE:20190920
DTEND;VALUE=DATE:20190922
DTSTAMP:20260420T190446
CREATED:20180821T000807Z
LAST-MODIFIED:20190226T132929Z
UID:4368-1568937600-1569110399@ultracycling.com
SUMMARY:Texas Time Trials 24H TT 2019
DESCRIPTION:The course is a scenic and challenging 26.5 mile loop\, with all riders completing 132.5 miles in 24 hours receiving a trophy. The 24H TT is a RAAM Qualifier.
URL:https://ultracycling.com/calendar/texas-24-2019/
LOCATION:Glen Rose City Park (Rodeo Park)\, 1600 Northeast Big Bend Trail\, 1600 Northeast Big Bend Trail\, TX\, 76033\, United States
CATEGORIES:24 Hour,RAAM Qualifier,Timed
ATTACH;FMTTYPE=image/jpeg:https://ultracycling.com/wp-content/uploads/2017/01/TT-logo.jpg
ORGANIZER;CN="Holland Racing":MAILTO:andrew.willis@hollandracing.net kelley.ables@hollandracing.net
END:VEVENT
BEGIN:VEVENT
DTSTART;VALUE=DATE:20190914
DTEND;VALUE=DATE:20190916
DTSTAMP:20260420T190446
CREATED:20190408T171433Z
LAST-MODIFIED:20190408T171433Z
UID:20872-1568419200-1568591999@ultracycling.com
SUMMARY:Brands Hatch Revolve 24 2019
DESCRIPTION:The 24 hour format\, racing around motor racing circuit Brand’s Hatch\, is a qualifier for RAAM
URL:https://ultracycling.com/calendar/brands-hatch-revolve-24-2019/
LOCATION:Brand’s Hatch\, West Kingsdown\, Longfield\, DA3 8PU\, United States
CATEGORIES:24 Hour,RAAM Qualifier,Timed
ATTACH;FMTTYPE=image/jpeg:https://ultracycling.com/wp-content/uploads/2016/11/Revolve-24-e1479748679245.jpg
ORGANIZER;CN="Revolve 24":MAILTO:r24team@revolve24.com
END:VEVENT
BEGIN:VEVENT
DTSTART;VALUE=DATE:20190914
DTEND;VALUE=DATE:20190916
DTSTAMP:20260420T190446
CREATED:20190408T171306Z
LAST-MODIFIED:20190408T171306Z
UID:20870-1568419200-1568591999@ultracycling.com
SUMMARY:Brands Hatch Revolve 12 2019
DESCRIPTION:12 hours of racing around the legendary Brand’s Hatch motor racing circuit
URL:https://ultracycling.com/calendar/brands-hatch-revolve-12-2019/
LOCATION:Brand’s Hatch\, West Kingsdown\, Longfield\, DA3 8PU\, United States
CATEGORIES:12 Hour,Timed
ATTACH;FMTTYPE=image/jpeg:https://ultracycling.com/wp-content/uploads/2016/11/Revolve-12-e1479748688967.jpg
ORGANIZER;CN="Revolve 24":MAILTO:r24team@revolve24.com
END:VEVENT
BEGIN:VEVENT
DTSTART;VALUE=DATE:20190914
DTEND;VALUE=DATE:20190915
DTSTAMP:20260420T190446
CREATED:20190408T171123Z
LAST-MODIFIED:20190408T171123Z
UID:20868-1568419200-1568505599@ultracycling.com
SUMMARY:Brands Hatch Revolve 6 2019
DESCRIPTION:A 6 hour super speedy time-trial around the Brand’s Hatch motor racing circuit
URL:https://ultracycling.com/calendar/brands-hatch-revolve-6-2019/
LOCATION:Brand’s Hatch\, West Kingsdown\, Longfield\, DA3 8PU\, United States
CATEGORIES:6 Hour,Timed
ATTACH;FMTTYPE=image/jpeg:https://ultracycling.com/wp-content/uploads/2016/11/Revolve-6-e1479748699458.jpg
ORGANIZER;CN="Revolve 24":MAILTO:r24team@revolve24.com
END:VEVENT
BEGIN:VEVENT
DTSTART;VALUE=DATE:20190824
DTEND;VALUE=DATE:20190826
DTSTAMP:20260420T190446
CREATED:20191018T125729Z
LAST-MODIFIED:20191018T125729Z
UID:21207-1566604800-1566777599@ultracycling.com
SUMMARY:Shimano 24 Hours - Le Mans\, 2019
DESCRIPTION:Racing on a technical track with great corners and its famous Dunlop uphill. With more than 4000 riders from around twenty different countries. Registration is limited to 520 teams\, including a maximum of 100 singles and 50 pairs.  Open also to teams of 2\, 4\, 6 or 8 racers.
URL:https://ultracycling.com/calendar/le-mans-24-2019/
LOCATION:Le Mans Circuit\, Circuit de la Sarthe\, Le Mans\, 72019\, France
CATEGORIES:24 Hour,Timed
ATTACH;FMTTYPE=image/png:https://ultracycling.com/wp-content/uploads/2016/11/Le-Mans-e1479748538241.png
ORGANIZER;CN="24 Heures Velo":MAILTO:course@24heuresvelo.fr
END:VEVENT
BEGIN:VEVENT
DTSTART;VALUE=DATE:20190817
DTEND;VALUE=DATE:20190819
DTSTAMP:20260420T190446
CREATED:20190408T175531Z
LAST-MODIFIED:20190408T182437Z
UID:20891-1566000000-1566172799@ultracycling.com
SUMMARY:Mid-Atlantic 6-hr 2019
DESCRIPTION:
URL:https://ultracycling.com/calendar/mid-atlantic-6-2019/
LOCATION:Washington High School\, 400 Slatestone Road\, Washington\, NC\, 27889\, United States
CATEGORIES:6 Hour,Championship,Timed
ORGANIZER;CN="Mid-Atlantic Ultra Sports":MAILTO:maxwell@midatlanticultrasports.com
END:VEVENT
BEGIN:VEVENT
DTSTART;VALUE=DATE:20190817
DTEND;VALUE=DATE:20190819
DTSTAMP:20260420T190446
CREATED:20190408T175143Z
LAST-MODIFIED:20190408T180427Z
UID:20889-1566000000-1566172799@ultracycling.com
SUMMARY:Mid-Atlantic 12 2019
DESCRIPTION:
URL:https://ultracycling.com/calendar/mid-atlantic-12-2019/
LOCATION:Washington High School\, 400 Slatestone Road\, Washington\, NC\, 27889\, United States
CATEGORIES:12 Hour,Timed
ORGANIZER;CN="Mid-Atlantic Ultra Sports":MAILTO:maxwell@midatlanticultrasports.com
END:VEVENT
BEGIN:VEVENT
DTSTART;VALUE=DATE:20190817
DTEND;VALUE=DATE:20190819
DTSTAMP:20260420T190446
CREATED:20190408T174513Z
LAST-MODIFIED:20190408T180508Z
UID:20887-1566000000-1566172799@ultracycling.com
SUMMARY:Mid-Atlantic 24 2019
DESCRIPTION:The 26 mile loop will take you around rural areas of Beaufort County. Located in the coastal region on North Carolina\, this is a very flat course! It’s the perfect venue for riders that are self supported
URL:https://ultracycling.com/calendar/mid-atlantic-24-2019/
LOCATION:Washington High School\, 400 Slatestone Road\, Washington\, NC\, 27889\, United States
CATEGORIES:24 Hour,RAAM Qualifier,Timed
ATTACH;FMTTYPE=image/jpeg:https://ultracycling.com/wp-content/uploads/2016/11/Mid-Atlantic.jpg
ORGANIZER;CN="Mid-Atlantic Ultra Sports":MAILTO:maxwell@midatlanticultrasports.com
END:VEVENT
BEGIN:VEVENT
DTSTART;VALUE=DATE:20190811
DTEND;VALUE=DATE:20190812
DTSTAMP:20260420T190446
CREATED:20190403T160430Z
LAST-MODIFIED:20190403T162112Z
UID:20855-1565481600-1565567999@ultracycling.com
SUMMARY:RTTC National 12H Championship 2019
DESCRIPTION:
URL:https://ultracycling.com/calendar/rttc-national-12h-championship-2019/
LOCATION:Farndon\, Farndon\, United Kingdom
CATEGORIES:12 Hour,Timed
ATTACH;FMTTYPE=image/jpeg:https://ultracycling.com/wp-content/uploads/2017/01/ECCA.jpg
END:VEVENT
BEGIN:VEVENT
DTSTART;VALUE=DATE:20190728
DTEND;VALUE=DATE:20190729
DTSTAMP:20260420T190446
CREATED:20190319T181200Z
LAST-MODIFIED:20190319T181200Z
UID:20842-1564272000-1564358399@ultracycling.com
SUMMARY:Team Swift 12-hour TT 2019
DESCRIPTION:12H TT held around Yorkshire villages
URL:https://ultracycling.com/calendar/team-swift-12-hour-tt-2019/
LOCATION:Team Swift TT Start\, Melbourne\, Pocklington\, United Kingdom
CATEGORIES:12 Hour,Timed
ATTACH;FMTTYPE=image/jpeg:https://ultracycling.com/wp-content/uploads/2017/01/Team-Swift.jpg
END:VEVENT
BEGIN:VEVENT
DTSTART;VALUE=DATE:20190720
DTEND;VALUE=DATE:20190722
DTSTAMP:20260420T190446
CREATED:20190224T205508Z
LAST-MODIFIED:20190226T133001Z
UID:20784-1563580800-1563753599@ultracycling.com
SUMMARY:Mersey Roads 24 2019
DESCRIPTION:Set beside a trucker’s café on an A-road in the Merseyside region of the UK\, exists one of the country’s oldest and most gruelling bike races. The Mersey Roads 24 Hour time trial sees over 100 competitors cycle superhuman distances of up to 537 miles (859km) over a 24-hour period.
URL:https://ultracycling.com/calendar/mersey-roads-24-2019/
LOCATION:Mersey 24H TT Start\, Farndon\, Merseyside\, United Kingdom
CATEGORIES:24 Hour,RAAM Qualifier,Timed
ATTACH;FMTTYPE=image/jpeg:https://ultracycling.com/wp-content/uploads/2016/11/Mersey-24-300.jpg
ORGANIZER;CN="Mersey Roads Club":MAILTO:oggy_merseyroads@hotmail.com
END:VEVENT
BEGIN:VEVENT
DTSTART;VALUE=DATE:20190720
DTEND;VALUE=DATE:20190721
DTSTAMP:20260420T190446
CREATED:20190319T180905Z
LAST-MODIFIED:20190319T180905Z
UID:20840-1563580800-1563667199@ultracycling.com
SUMMARY:Big Jay's Ultra Cycling Challenge (12-hour) 2019
DESCRIPTION:Course is a low traffic\, flat\, 25 mile loop with easy to follow road markings
URL:https://ultracycling.com/calendar/big-jays-12-hour-race-2019/
LOCATION:2162 125E in rural Mahomet\, 2162 125E\, Mahomet\, IL\, United States
CATEGORIES:12 Hour,Timed
END:VEVENT
END:VCALENDAR