

BEGIN:VCALENDAR
VERSION:2.0
PRODID:-//World UltraCycling Association - ECPv6.15.20//NONSGML v1.0//EN
CALSCALE:GREGORIAN
METHOD:PUBLISH
X-WR-CALNAME:World UltraCycling Association
X-ORIGINAL-URL:https://ultracycling.com
X-WR-CALDESC:Events for World UltraCycling Association
REFRESH-INTERVAL;VALUE=DURATION:PT1H
X-Robots-Tag:noindex
X-PUBLISHED-TTL:PT1H
BEGIN:VTIMEZONE
TZID:America/Los_Angeles
BEGIN:DAYLIGHT
TZOFFSETFROM:-0800
TZOFFSETTO:-0700
TZNAME:PDT
DTSTART:20230312T100000
END:DAYLIGHT
BEGIN:STANDARD
TZOFFSETFROM:-0700
TZOFFSETTO:-0800
TZNAME:PST
DTSTART:20231105T090000
END:STANDARD
BEGIN:DAYLIGHT
TZOFFSETFROM:-0800
TZOFFSETTO:-0700
TZNAME:PDT
DTSTART:20240310T100000
END:DAYLIGHT
BEGIN:STANDARD
TZOFFSETFROM:-0700
TZOFFSETTO:-0800
TZNAME:PST
DTSTART:20241103T090000
END:STANDARD
BEGIN:DAYLIGHT
TZOFFSETFROM:-0800
TZOFFSETTO:-0700
TZNAME:PDT
DTSTART:20250309T100000
END:DAYLIGHT
BEGIN:STANDARD
TZOFFSETFROM:-0700
TZOFFSETTO:-0800
TZNAME:PST
DTSTART:20251102T090000
END:STANDARD
END:VTIMEZONE
BEGIN:VTIMEZONE
TZID:America/Chicago
BEGIN:DAYLIGHT
TZOFFSETFROM:-0600
TZOFFSETTO:-0500
TZNAME:CDT
DTSTART:20230312T080000
END:DAYLIGHT
BEGIN:STANDARD
TZOFFSETFROM:-0500
TZOFFSETTO:-0600
TZNAME:CST
DTSTART:20231105T070000
END:STANDARD
BEGIN:DAYLIGHT
TZOFFSETFROM:-0600
TZOFFSETTO:-0500
TZNAME:CDT
DTSTART:20240310T080000
END:DAYLIGHT
BEGIN:STANDARD
TZOFFSETFROM:-0500
TZOFFSETTO:-0600
TZNAME:CST
DTSTART:20241103T070000
END:STANDARD
BEGIN:DAYLIGHT
TZOFFSETFROM:-0600
TZOFFSETTO:-0500
TZNAME:CDT
DTSTART:20250309T080000
END:DAYLIGHT
BEGIN:STANDARD
TZOFFSETFROM:-0500
TZOFFSETTO:-0600
TZNAME:CST
DTSTART:20251102T070000
END:STANDARD
END:VTIMEZONE
BEGIN:VEVENT
DTSTART;TZID=America/Los_Angeles:20241101T050000
DTEND;TZID=America/Los_Angeles:20241103T170000
DTSTAMP:20260421T163742
CREATED:20240115T014052Z
LAST-MODIFIED:20240115T014059Z
UID:38579-1730437200-1730653200@ultracycling.com
SUMMARY:6/12/24 "World Time Trial Championships"\, 24hr (2024)
DESCRIPTION:A popular and highly competitive event\, run in the flat desert east of San Diego\, CA.  The course runs on an 18mi\, mostly-flat loop\, changing to a shorter loop for the last portion of the available time.  The event often fills\, so registration as early as possible is advised. (Note\, while the name of this event includes the wording as world championship\, it is not sanctioned as such by WUCA and the bonus points associated with that status do not apply.)
URL:https://ultracycling.com/calendar/6-12-24-world-time-trial-championships-24hr-2024/
LOCATION:Borrego Springs\, Christmas Circle\, Borrego Springs\, CA\, United States
CATEGORIES:24 Hour,RAAM Qualifier,Timed
ATTACH;FMTTYPE=image/webp:https://ultracycling.com/wp-content/uploads/2024/01/6-12-24hour_logo.webp
ORGANIZER;CN="Rick Boethling":MAILTO:info@raceacrossamerica.org
END:VEVENT
BEGIN:VEVENT
DTSTART;VALUE=DATE:20241108
DTEND;VALUE=DATE:20241110
DTSTAMP:20260421T163742
CREATED:20240115T003011Z
LAST-MODIFIED:20240524T112046Z
UID:38564-1731024000-1731196799@ultracycling.com
SUMMARY:Bessies Creek 24hr 2024
DESCRIPTION:Bessies Creek 24hr race will be held on a new\, quieter course and is now NOV 8. \nRAAM qualifier for those racers who exceed 400 miles.
URL:https://ultracycling.com/calendar/bessies-creek-24hr-2024/
LOCATION:La Grange\, TX\, La Grange
CATEGORIES:24 Hour,RAAM Qualifier,Timed
ATTACH;FMTTYPE=image/png:https://ultracycling.com/wp-content/uploads/2016/11/Bessie12-e1481564669255.png
ORGANIZER;CN="Kenneth Jessett":MAILTO:Kennethjessett@sbcglobal.net
END:VEVENT
END:VCALENDAR