

BEGIN:VCALENDAR
VERSION:2.0
PRODID:-//World UltraCycling Association - ECPv6.15.20//NONSGML v1.0//EN
CALSCALE:GREGORIAN
METHOD:PUBLISH
X-WR-CALNAME:World UltraCycling Association
X-ORIGINAL-URL:https://ultracycling.com
X-WR-CALDESC:Events for World UltraCycling Association
REFRESH-INTERVAL;VALUE=DURATION:PT1H
X-Robots-Tag:noindex
X-PUBLISHED-TTL:PT1H
BEGIN:VTIMEZONE
TZID:America/Los_Angeles
BEGIN:DAYLIGHT
TZOFFSETFROM:-0800
TZOFFSETTO:-0700
TZNAME:PDT
DTSTART:20220313T100000
END:DAYLIGHT
BEGIN:STANDARD
TZOFFSETFROM:-0700
TZOFFSETTO:-0800
TZNAME:PST
DTSTART:20221106T090000
END:STANDARD
BEGIN:DAYLIGHT
TZOFFSETFROM:-0800
TZOFFSETTO:-0700
TZNAME:PDT
DTSTART:20230312T100000
END:DAYLIGHT
BEGIN:STANDARD
TZOFFSETFROM:-0700
TZOFFSETTO:-0800
TZNAME:PST
DTSTART:20231105T090000
END:STANDARD
BEGIN:DAYLIGHT
TZOFFSETFROM:-0800
TZOFFSETTO:-0700
TZNAME:PDT
DTSTART:20240310T100000
END:DAYLIGHT
BEGIN:STANDARD
TZOFFSETFROM:-0700
TZOFFSETTO:-0800
TZNAME:PST
DTSTART:20241103T090000
END:STANDARD
END:VTIMEZONE
BEGIN:VEVENT
DTSTART;TZID=America/Los_Angeles:20231104T050000
DTEND;TZID=America/Los_Angeles:20231104T170000
DTSTAMP:20260421T163741
CREATED:20230830T003336Z
LAST-MODIFIED:20230929T174550Z
UID:36473-1699074000-1699117200@ultracycling.com
SUMMARY:6/12/24 "World Time Trial Championships"\, 24hr (2023)
DESCRIPTION:A popular and highly competitive event\, run in the flat desert east of San Diego\, CA.  The course runs on an 18mi\, mostly-flat loop\, changing to a shorter loop for the last portion of the available time.  The event often fills\, so registration as early as possible is advised. (Note\, while the name of this event includes the wording as world championship\, it is not sanctioned as such by WUCA and the bonus points associated with that status do not apply.)
URL:https://ultracycling.com/calendar/borrego-springs-time-trial-24hr-2023/
CATEGORIES:24 Hour,Timed
ORGANIZER;CN="Rick Boethling":MAILTO:info@raceacrossamerica.org
END:VEVENT
END:VCALENDAR