

BEGIN:VCALENDAR
VERSION:2.0
PRODID:-//World UltraCycling Association - ECPv6.15.20//NONSGML v1.0//EN
CALSCALE:GREGORIAN
METHOD:PUBLISH
X-ORIGINAL-URL:https://ultracycling.com
X-WR-CALDESC:Events for World UltraCycling Association
REFRESH-INTERVAL;VALUE=DURATION:PT1H
X-Robots-Tag:noindex
X-PUBLISHED-TTL:PT1H
BEGIN:VTIMEZONE
TZID:America/Los_Angeles
BEGIN:DAYLIGHT
TZOFFSETFROM:-0800
TZOFFSETTO:-0700
TZNAME:PDT
DTSTART:20220313T100000
END:DAYLIGHT
BEGIN:STANDARD
TZOFFSETFROM:-0700
TZOFFSETTO:-0800
TZNAME:PST
DTSTART:20221106T090000
END:STANDARD
BEGIN:DAYLIGHT
TZOFFSETFROM:-0800
TZOFFSETTO:-0700
TZNAME:PDT
DTSTART:20230312T100000
END:DAYLIGHT
BEGIN:STANDARD
TZOFFSETFROM:-0700
TZOFFSETTO:-0800
TZNAME:PST
DTSTART:20231105T090000
END:STANDARD
BEGIN:DAYLIGHT
TZOFFSETFROM:-0800
TZOFFSETTO:-0700
TZNAME:PDT
DTSTART:20240310T100000
END:DAYLIGHT
BEGIN:STANDARD
TZOFFSETFROM:-0700
TZOFFSETTO:-0800
TZNAME:PST
DTSTART:20241103T090000
END:STANDARD
END:VTIMEZONE
BEGIN:VEVENT
DTSTART;TZID=America/Los_Angeles:20230812T060000
DTEND;TZID=America/Los_Angeles:20230812T180000
DTSTAMP:20260421T193441
CREATED:20230622T015124Z
LAST-MODIFIED:20230804T161237Z
UID:34118-1691820000-1691863200@ultracycling.com
SUMMARY:Mid Atlantic Ultra 12\, 2023
DESCRIPTION:We feature a non drafting 24 hour RAAM qualifier race and a drafting 12 hour race\, along with a 100 Mile Race. A non competitive century ride is also an option for those looking to enjoy a more leisurely pace.\nThe 26 mile loop will take you through rural areas of Beaufort County. We are located in the coastal region of North Carolina. This is an extremely flat course! It is the perfect venue for riders that are self supported. You are allowed to park your vehicle inside the secure “Bus” parking lot. This is what serves as the Start/Finish line\, you will pass by the time check after each lap. So feel free to set up your supplies for the day. There is a grassy area that you can set up a canopy for your crew as well. On site setup is to begin no earlier than 5am on day of event and must be removed by 10am the following morning. Online registration is available at BikeReg.com.
URL:https://ultracycling.com/calendar/mid-atlantic-ultra-12-2023-3/
CATEGORIES:12 Hour
END:VEVENT
END:VCALENDAR