

BEGIN:VCALENDAR
VERSION:2.0
PRODID:-//World UltraCycling Association - ECPv6.15.20//NONSGML v1.0//EN
CALSCALE:GREGORIAN
METHOD:PUBLISH
X-ORIGINAL-URL:https://ultracycling.com
X-WR-CALDESC:Events for World UltraCycling Association
REFRESH-INTERVAL;VALUE=DURATION:PT1H
X-Robots-Tag:noindex
X-PUBLISHED-TTL:PT1H
BEGIN:VTIMEZONE
TZID:Asia/Kolkata
BEGIN:STANDARD
TZOFFSETFROM:+0530
TZOFFSETTO:+0530
TZNAME:IST
DTSTART:20230101T000000
END:STANDARD
END:VTIMEZONE
BEGIN:VTIMEZONE
TZID:America/Chicago
BEGIN:DAYLIGHT
TZOFFSETFROM:-0600
TZOFFSETTO:-0500
TZNAME:CDT
DTSTART:20230312T080000
END:DAYLIGHT
BEGIN:STANDARD
TZOFFSETFROM:-0500
TZOFFSETTO:-0600
TZNAME:CST
DTSTART:20231105T070000
END:STANDARD
BEGIN:DAYLIGHT
TZOFFSETFROM:-0600
TZOFFSETTO:-0500
TZNAME:CDT
DTSTART:20240310T080000
END:DAYLIGHT
BEGIN:STANDARD
TZOFFSETFROM:-0500
TZOFFSETTO:-0600
TZNAME:CST
DTSTART:20241103T070000
END:STANDARD
BEGIN:DAYLIGHT
TZOFFSETFROM:-0600
TZOFFSETTO:-0500
TZNAME:CDT
DTSTART:20250309T080000
END:DAYLIGHT
BEGIN:STANDARD
TZOFFSETFROM:-0500
TZOFFSETTO:-0600
TZNAME:CST
DTSTART:20251102T070000
END:STANDARD
END:VTIMEZONE
BEGIN:VEVENT
DTSTART;TZID=Asia/Kolkata:20241101T050000
DTEND;TZID=Asia/Kolkata:20241102T210000
DTSTAMP:20260421T163233
CREATED:20240114T235956Z
LAST-MODIFIED:20240115T000004Z
UID:38556-1730437200-1730581200@ultracycling.com
SUMMARY:The Deccan Cliffhanger 11th Edition (2024)
DESCRIPTION:The Deccan Cliffhanger is India’s signature Ultracycle Race! \nThe race starts on the Deccan Plateau\, goes over the Sahyadri mountains and drops through dense forests covered cliffs to finish on the coastline in Goa. A 646 Km (400 Mile) Ultra Cycling Race from Pune to Goa\, comprising solo and relay team categories. The Relay event is RAAM style\, and the Solo Race is a Race Across America Qualifier. All racers in all categories must have a support vehicle and crew. \nThe Deccan Cliffhanger is a Fast paced\, competitive race that heads for the beach! \nThe Race is open to Solo Self Supported and Crew Supported Racers (both RAAM Qualifiers) and 2\,3\,4 Person Relay Teams who will race RAAM Style Relay. 
URL:https://ultracycling.com/calendar/the-deccan-cliffhanger-11th-edition-2024/
LOCATION:Keshavbaug Pune\, D.P. Road\, Kothrud\, Pune\, Maharashtra\, 411009\, IN
CATEGORIES:400 Mile,RAAM Qualifier
ATTACH;FMTTYPE=image/png:https://ultracycling.com/wp-content/uploads/ninja-forms/7/DC-WUCA.png
ORGANIZER;CN="Inspire India - Divya Tate":MAILTO:inspireindiateam@gmail.com
END:VEVENT
BEGIN:VEVENT
DTSTART;VALUE=DATE:20241108
DTEND;VALUE=DATE:20241112
DTSTAMP:20260421T163233
CREATED:20240115T002607Z
LAST-MODIFIED:20240524T111942Z
UID:38562-1731024000-1731369599@ultracycling.com
SUMMARY:Bessies Creek: Gulf Coast 511 2024
DESCRIPTION:Bessies Creek 511 has moved to a more quiet course and a new date of NOV 8\, allowing for racers to ride 36 hours to complete the course. \nRAAM qualifier for those who race the 24 hour race\, must ride 400+ miles for RAAM qualifier.
URL:https://ultracycling.com/calendar/bessies-creek-gulf-coast-511-2024/
LOCATION:La Grange\, TX\, La Grange
CATEGORIES:500 Mile +,Distance,RAAM Qualifier
ATTACH;FMTTYPE=image/png:https://ultracycling.com/wp-content/uploads/2016/11/Bessie.png
ORGANIZER;CN="Kenneth Jessett":MAILTO:Kennethjessett@sbcglobal.net
END:VEVENT
END:VCALENDAR