

BEGIN:VCALENDAR
VERSION:2.0
PRODID:-//World UltraCycling Association - ECPv6.15.20//NONSGML v1.0//EN
CALSCALE:GREGORIAN
METHOD:PUBLISH
X-ORIGINAL-URL:https://ultracycling.com
X-WR-CALDESC:Events for World UltraCycling Association
REFRESH-INTERVAL;VALUE=DURATION:PT1H
X-Robots-Tag:noindex
X-PUBLISHED-TTL:PT1H
BEGIN:VTIMEZONE
TZID:America/Los_Angeles
BEGIN:DAYLIGHT
TZOFFSETFROM:-0800
TZOFFSETTO:-0700
TZNAME:PDT
DTSTART:20230312T100000
END:DAYLIGHT
BEGIN:STANDARD
TZOFFSETFROM:-0700
TZOFFSETTO:-0800
TZNAME:PST
DTSTART:20231105T090000
END:STANDARD
BEGIN:DAYLIGHT
TZOFFSETFROM:-0800
TZOFFSETTO:-0700
TZNAME:PDT
DTSTART:20240310T100000
END:DAYLIGHT
BEGIN:STANDARD
TZOFFSETFROM:-0700
TZOFFSETTO:-0800
TZNAME:PST
DTSTART:20241103T090000
END:STANDARD
BEGIN:DAYLIGHT
TZOFFSETFROM:-0800
TZOFFSETTO:-0700
TZNAME:PDT
DTSTART:20250309T100000
END:DAYLIGHT
BEGIN:STANDARD
TZOFFSETFROM:-0700
TZOFFSETTO:-0800
TZNAME:PST
DTSTART:20251102T090000
END:STANDARD
END:VTIMEZONE
BEGIN:VTIMEZONE
TZID:Atlantic/Azores
BEGIN:DAYLIGHT
TZOFFSETFROM:-0100
TZOFFSETTO:+0000
TZNAME:+00
DTSTART:20230326T010000
END:DAYLIGHT
BEGIN:STANDARD
TZOFFSETFROM:+0000
TZOFFSETTO:-0100
TZNAME:-01
DTSTART:20231029T010000
END:STANDARD
BEGIN:DAYLIGHT
TZOFFSETFROM:-0100
TZOFFSETTO:+0000
TZNAME:+00
DTSTART:20240331T010000
END:DAYLIGHT
BEGIN:STANDARD
TZOFFSETFROM:+0000
TZOFFSETTO:-0100
TZNAME:-01
DTSTART:20241027T010000
END:STANDARD
BEGIN:DAYLIGHT
TZOFFSETFROM:-0100
TZOFFSETTO:+0000
TZNAME:+00
DTSTART:20250330T010000
END:DAYLIGHT
BEGIN:STANDARD
TZOFFSETFROM:+0000
TZOFFSETTO:-0100
TZNAME:-01
DTSTART:20251026T010000
END:STANDARD
END:VTIMEZONE
BEGIN:VEVENT
DTSTART;TZID=America/Los_Angeles:20240611T163000
DTEND;TZID=America/Los_Angeles:20240615T220000
DTSTAMP:20260421T063421
CREATED:20240108T073546Z
LAST-MODIFIED:20240109T032203Z
UID:38326-1718123400-1718488800@ultracycling.com
SUMMARY:Race Across the West\, 2024
DESCRIPTION:Beginning in Oceanside\, California and continuing non-stop to the finish in Durango\, Colorado\, the Race Across the West (RAW) is run coincident with RAAM and utilizes the same course\, while ending after 930 miles in Durango.. While much shorter than the full RAAM event\, the RAW challenges riders with the extremes of elevation gain\, altitude and desert heat.
URL:https://ultracycling.com/calendar/race-across-the-west-2024/
LOCATION:Oceanside Pier\, The Strand N\, Oceanside\, CA\, 92054\, United States
CATEGORIES:1000 Mile +,RAAM Qualifier
ATTACH;FMTTYPE=image/png:https://ultracycling.com/wp-content/uploads/2022/11/raam2_0.PNG
END:VEVENT
BEGIN:VEVENT
DTSTART;TZID=America/Los_Angeles:20240614T080000
DTEND;TZID=America/Los_Angeles:20240619T170000
DTSTAMP:20260421T063421
CREATED:20240106T081656Z
LAST-MODIFIED:20240107T035449Z
UID:38214-1718352000-1718816400@ultracycling.com
SUMMARY:B-Hard Ultra Race & Brevet
DESCRIPTION:
URL:https://ultracycling.com/calendar/b-hard-ultra-race-brevet/
CATEGORIES:500 Mile +,RAAM Qualifier
ORGANIZER;CN="Nikica Atlagic":MAILTO:bhardultrarace@gmail.com
END:VEVENT
BEGIN:VEVENT
DTSTART;TZID=Atlantic/Azores:20240614T080000
DTEND;TZID=Atlantic/Azores:20240619T170000
DTSTAMP:20260421T063421
CREATED:20240108T074114Z
LAST-MODIFIED:20240109T025736Z
UID:38328-1718352000-1718816400@ultracycling.com
SUMMARY:B-Hard Ultra Race & Brevet
DESCRIPTION:In the wave of new ultra races popping up around the globe\, our event is different and unique in a way that it has been specifically designed to boost positive image and promote tourism of a very understated and beautiful country. The route has been carefully crafted to represent the best Bosnia & Herzegovina\, passing through National Parks\, along rivers\, lakes and waterfalls\, over 1984 Winter Olympic ski-centers\, by UNESCO World Heritage sites generally over stunning (and hilly) terrain. \nThere are a number of ride options-1200\, 600\, 300\, & 200km. The 1200km is the RQ\, and is a counter-clockwise loop. Open to solo racers (unsupported & supported) and 2-person teams.
URL:https://ultracycling.com/calendar/b-hard-ultra-race-brevet-2/
LOCATION:Bosnia\, Bosnia and Herzegovina
CATEGORIES:500 Mile +,RAAM Qualifier
ATTACH;FMTTYPE=image/jpeg:https://ultracycling.com/wp-content/uploads/2024/01/Screenshot_20240106-030002_Chrome2.jpg
ORGANIZER;CN="Nikica Atlagic":MAILTO:bhardultrarace@gmail.com
END:VEVENT
BEGIN:VEVENT
DTSTART;TZID=America/Los_Angeles:20240615T080000
DTEND;TZID=America/Los_Angeles:20240625T220000
DTSTAMP:20260421T063421
CREATED:20240108T075418Z
LAST-MODIFIED:20240109T030435Z
UID:38334-1718438400-1719352800@ultracycling.com
SUMMARY:Race Across America - 2024
DESCRIPTION:Beginning in Oceanside\, California and continuing non-stop to the finish in Annapolis\, Maryland\, the Race Across America (RAAM) is one of the most well known ultra-endurance events across all sports. It has been running since the early 1980’s and while it has included finishes by professional cyclists\, it has also seen its share of relative newcomers to competitive cycling. There are race formats that welcome solo riders as well as two\, four\, or eight person relay teams. Solo racers must qualify by performance in at least one ‘RAAM Qualifier’ event. Qualification standards do not apply to relay teams. RAAM does require a support crew and can not be raced in an unsupported format. For those interested in a shorter\, but still very demanding event\, consider the Race Across the West\, or RAW\, which covers the first ~1\,000 miles of the same course\, finishing in Durango\, Colorado.
URL:https://ultracycling.com/calendar/race-across-america-2023-2/
LOCATION:Oceanside Pier\, The Strand N\, Oceanside\, CA\, 92054\, United States
CATEGORIES:1000 Mile +
ATTACH;FMTTYPE=image/png:https://ultracycling.com/wp-content/uploads/2022/11/raam2.PNG
END:VEVENT
END:VCALENDAR