

BEGIN:VCALENDAR
VERSION:2.0
PRODID:-//World UltraCycling Association - ECPv6.15.20//NONSGML v1.0//EN
CALSCALE:GREGORIAN
METHOD:PUBLISH
X-WR-CALNAME:World UltraCycling Association
X-ORIGINAL-URL:https://ultracycling.com
X-WR-CALDESC:Events for World UltraCycling Association
REFRESH-INTERVAL;VALUE=DURATION:PT1H
X-Robots-Tag:noindex
X-PUBLISHED-TTL:PT1H
BEGIN:VTIMEZONE
TZID:UTC
BEGIN:STANDARD
TZOFFSETFROM:+0000
TZOFFSETTO:+0000
TZNAME:UTC
DTSTART:20230101T000000
END:STANDARD
END:VTIMEZONE
BEGIN:VTIMEZONE
TZID:America/Los_Angeles
BEGIN:DAYLIGHT
TZOFFSETFROM:-0800
TZOFFSETTO:-0700
TZNAME:PDT
DTSTART:20230312T100000
END:DAYLIGHT
BEGIN:STANDARD
TZOFFSETFROM:-0700
TZOFFSETTO:-0800
TZNAME:PST
DTSTART:20231105T090000
END:STANDARD
BEGIN:DAYLIGHT
TZOFFSETFROM:-0800
TZOFFSETTO:-0700
TZNAME:PDT
DTSTART:20240310T100000
END:DAYLIGHT
BEGIN:STANDARD
TZOFFSETFROM:-0700
TZOFFSETTO:-0800
TZNAME:PST
DTSTART:20241103T090000
END:STANDARD
BEGIN:DAYLIGHT
TZOFFSETFROM:-0800
TZOFFSETTO:-0700
TZNAME:PDT
DTSTART:20250309T100000
END:DAYLIGHT
BEGIN:STANDARD
TZOFFSETFROM:-0700
TZOFFSETTO:-0800
TZNAME:PST
DTSTART:20251102T090000
END:STANDARD
END:VTIMEZONE
BEGIN:VTIMEZONE
TZID:Europe/Dublin
BEGIN:DAYLIGHT
TZOFFSETFROM:+0000
TZOFFSETTO:+0100
TZNAME:IST
DTSTART:20230326T010000
END:DAYLIGHT
BEGIN:STANDARD
TZOFFSETFROM:+0100
TZOFFSETTO:+0000
TZNAME:GMT
DTSTART:20231029T010000
END:STANDARD
BEGIN:DAYLIGHT
TZOFFSETFROM:+0000
TZOFFSETTO:+0100
TZNAME:IST
DTSTART:20240331T010000
END:DAYLIGHT
BEGIN:STANDARD
TZOFFSETFROM:+0100
TZOFFSETTO:+0000
TZNAME:GMT
DTSTART:20241027T010000
END:STANDARD
BEGIN:DAYLIGHT
TZOFFSETFROM:+0000
TZOFFSETTO:+0100
TZNAME:IST
DTSTART:20250330T010000
END:DAYLIGHT
BEGIN:STANDARD
TZOFFSETFROM:+0100
TZOFFSETTO:+0000
TZNAME:GMT
DTSTART:20251026T010000
END:STANDARD
END:VTIMEZONE
BEGIN:VEVENT
DTSTART;VALUE=DATE:20240108
DTEND;VALUE=DATE:20240508
DTSTAMP:20260421T001548
CREATED:20240108T050503Z
LAST-MODIFIED:20240108T050503Z
UID:38321-1704672000-1715126399@ultracycling.com
SUMMARY:Race Around Denmark EXTREME 2024
DESCRIPTION:Supported and unsupported categories\, with unsupported beginning on May 7\, 2024.  Supported riders for both this event and the RAD Challenge event will begin on May 7th\, 2024.
URL:https://ultracycling.com/calendar/race-around-denmark-extreme-2024/
LOCATION:Aarhus\, Denmark
CATEGORIES:1000 Mile +,Distance,RAAM Qualifier
ORGANIZER;CN="SUB10 Sports &amp%3B Events":MAILTO:info@racearounddenmark.org
END:VEVENT
BEGIN:VEVENT
DTSTART;VALUE=DATE:20240507
DTEND;VALUE=DATE:20240508
DTSTAMP:20260421T001548
CREATED:20240108T050859Z
LAST-MODIFIED:20240108T050859Z
UID:38324-1715040000-1715126399@ultracycling.com
SUMMARY:Race Around Denmark EXTREME 2024
DESCRIPTION:Supported and unsupported categories\, with unsupported beginning on May 7th\, 2024.  Supported riders for both this event and the RAD Challenge event will begin on May 7th\, 2024.
URL:https://ultracycling.com/calendar/race-around-denmark-extreme-2024-2/
LOCATION:Aarhus\, Denmark
CATEGORIES:1000 Mile +,RAAM Qualifier
ORGANIZER;CN="SUB10 Sports &amp%3B Events":MAILTO:info@racearounddenmark.org
END:VEVENT
BEGIN:VEVENT
DTSTART;TZID=America/Los_Angeles:20240510T140000
DTEND;TZID=America/Los_Angeles:20240510T140000
DTSTAMP:20260421T001548
CREATED:20230622T015040Z
LAST-MODIFIED:20230718T162631Z
UID:34102-1715349600-1715349600@ultracycling.com
SUMMARY:Race Around Niederoesterreich 2024
DESCRIPTION:Welcome to Austria! RAN is an Ultra Race around Austrias largest region\, called Niederoesterreich. 600km / 6.000m altidude gain. Cycling through forrests\, wineyards\, cornfield\, mountains and valleys and along rivers\, following an absolut wonderful course. With more than 200 entries one of the largest Ultra-Cycling-Races worldwide. Full Live-coverage with 6 cameras. Also a qualifier for RAAM.
URL:https://ultracycling.com/calendar/race-around-niederoesterreich-2024-3/
CATEGORIES:400 Mile
ATTACH;FMTTYPE=image/jpeg:https://ultracycling.com/wp-content/uploads/2023/06/20210507_073644-scaled-bxUHsD.tmp_.jpg
END:VEVENT
BEGIN:VEVENT
DTSTART;TZID=Europe/Dublin:20240518T000000
DTEND;TZID=Europe/Dublin:20240518T000000
DTSTAMP:20260421T001548
CREATED:20240107T074221Z
LAST-MODIFIED:20240107T074221Z
UID:38291-1715990400-1715990400@ultracycling.com
SUMMARY:The Joe Barr 500
DESCRIPTION:
URL:https://ultracycling.com/calendar/the-joe-barr-500/
LOCATION:Eglinton\, Ireland
CATEGORIES:500 Mile +
ATTACH;FMTTYPE=image/jpeg:https://ultracycling.com/wp-content/uploads/2024/01/JoeBarr.jpg
ORGANIZER;CN="Jillian Mooney":MAILTO:jill@teamjoebarr.com
END:VEVENT
END:VCALENDAR