

BEGIN:VCALENDAR
VERSION:2.0
PRODID:-//World UltraCycling Association - ECPv6.15.20//NONSGML v1.0//EN
CALSCALE:GREGORIAN
METHOD:PUBLISH
X-ORIGINAL-URL:https://ultracycling.com
X-WR-CALDESC:Events for World UltraCycling Association
REFRESH-INTERVAL;VALUE=DURATION:PT1H
X-Robots-Tag:noindex
X-PUBLISHED-TTL:PT1H
BEGIN:VTIMEZONE
TZID:America/Los_Angeles
BEGIN:DAYLIGHT
TZOFFSETFROM:-0800
TZOFFSETTO:-0700
TZNAME:PDT
DTSTART:20220313T100000
END:DAYLIGHT
BEGIN:STANDARD
TZOFFSETFROM:-0700
TZOFFSETTO:-0800
TZNAME:PST
DTSTART:20221106T090000
END:STANDARD
BEGIN:DAYLIGHT
TZOFFSETFROM:-0800
TZOFFSETTO:-0700
TZNAME:PDT
DTSTART:20230312T100000
END:DAYLIGHT
BEGIN:STANDARD
TZOFFSETFROM:-0700
TZOFFSETTO:-0800
TZNAME:PST
DTSTART:20231105T090000
END:STANDARD
BEGIN:DAYLIGHT
TZOFFSETFROM:-0800
TZOFFSETTO:-0700
TZNAME:PDT
DTSTART:20240310T100000
END:DAYLIGHT
BEGIN:STANDARD
TZOFFSETFROM:-0700
TZOFFSETTO:-0800
TZNAME:PST
DTSTART:20241103T090000
END:STANDARD
END:VTIMEZONE
BEGIN:VEVENT
DTSTART;TZID=America/Los_Angeles:20230613T080000
DTEND;TZID=America/Los_Angeles:20230623T220000
DTSTAMP:20260421T063417
CREATED:20230622T015038Z
LAST-MODIFIED:20230718T162357Z
UID:33123-1686643200-1687557600@ultracycling.com
SUMMARY:Race Across America - 2023
DESCRIPTION:Beginning in Oceanside\, California and continuing non-stop to the finish in Annapolis\, Maryland\, the Race Across America (RAAM) is one of the most well known ultra-endurance events across all sports.  It has been running since the early 1980’s and while it has included finishes by professional cyclists\, it has also seen its share of relative newcomers to competitive cycling.  There are race formats that welcome solo riders as well as two\, four\, or eight person relay teams.  Solo racers must qualify by performance in at least one ‘RAAM Qualifier’ event.  Qualification standards do not apply to relay teams.  RAAM does require a support crew and can not be raced in an unsupported format.  For those interested in a shorter\, but still very demanding event\, consider the Race Across the West\, or RAW\, which covers the first ~1\,000 miles of the same course\, finishing in Durango\, Colorado.
URL:https://ultracycling.com/calendar/race-across-america-2023/
LOCATION:Oceanside Pier\, The Strand N\, Oceanside\, CA\, 92054\, United States
CATEGORIES:1000 Mile +
ATTACH;FMTTYPE=image/png:https://ultracycling.com/wp-content/uploads/2022/11/raam2.PNG
END:VEVENT
BEGIN:VEVENT
DTSTART;TZID=America/Los_Angeles:20230613T163000
DTEND;TZID=America/Los_Angeles:20230617T220000
DTSTAMP:20260421T063417
CREATED:20230622T015039Z
LAST-MODIFIED:20240108T073722Z
UID:33125-1686673800-1687039200@ultracycling.com
SUMMARY:Race Across the West\, 2023
DESCRIPTION:Beginning in Oceanside\, California and continuing non-stop to the finish in Durango\, Colorado\, the Race Across the West (RAW) is run coincident with RAAM and utilizes the same course\, while ending after 930 miles in Durango..  While much shorter than the full RAAM event\, the RAW challenges riders with the extremes of elevation gain\, altitude and desert heat.
URL:https://ultracycling.com/calendar/race-across-the-west-2023/
CATEGORIES:1000 Mile +
ATTACH;FMTTYPE=image/png:https://ultracycling.com/wp-content/uploads/2022/11/raam2_0.PNG
END:VEVENT
BEGIN:VEVENT
DTSTART;TZID=America/Los_Angeles:20230620T023000
DTEND;TZID=America/Los_Angeles:20230710T140000
DTSTAMP:20260421T063417
CREATED:20230622T015052Z
LAST-MODIFIED:20230718T162400Z
UID:33131-1687228200-1688997600@ultracycling.com
SUMMARY:45-SouthWest
DESCRIPTION:45-SouthWest is a single-stage\, self-supported road bicycle adventure starting in the historical city of Krakow.\nThe route will lead the riders through national parks\, iconic ancient villages\, and towns\, scenic UNESCO World Heritage sites\, the deepest canyon in Europe\, the “orange towers\,” challenging mountain regions including Europe’s highest cycling climb\, the Pyrenees\, and the Alps with the famous Tour de France cols. The event will complete at the southernmost part of the European mainland.
URL:https://ultracycling.com/calendar/45-southwest/
CATEGORIES:1000 Mile +
ATTACH;FMTTYPE=image/jpeg:https://ultracycling.com/wp-content/uploads/2022/12/DSCF3922_c.JPG
END:VEVENT
BEGIN:VEVENT
DTSTART;TZID=America/Los_Angeles:20230624T040000
DTEND;TZID=America/Los_Angeles:20230702T140000
DTSTAMP:20260421T063417
CREATED:20230622T014907Z
LAST-MODIFIED:20230718T162359Z
UID:33076-1687579200-1688306400@ultracycling.com
SUMMARY:Swiss Bike Adventure 2023
DESCRIPTION:The hilliest country in Europe at its finest!1300km with an impressive 27`000 meters of climbing. Self-supported bikepacking adventure around Switzerland.
URL:https://ultracycling.com/calendar/swiss-bike-adventure-2023/
CATEGORIES:500 Mile +
ATTACH;FMTTYPE=image/jpeg:https://ultracycling.com/wp-content/uploads/2023/06/DSC09734-scaled-hgP7DP.tmp_.jpg
END:VEVENT
END:VCALENDAR